BEGIN:VCALENDAR
VERSION:2.0
PRODID:-//ChamberMaster//Event Calendar 2.0//EN
METHOD:PUBLISH
X-PUBLISHED-TTL:P3D
REFRESH-INTERVAL:P3D
CALSCALE:GREGORIAN
BEGIN:VEVENT
DTSTART:20081016T223000Z
DTEND:20081017T000000Z
X-MICROSOFT-CDO-ALLDAYEVENT:FALSE
SUMMARY:Event at ALG Computer Consulting and Training
DESCRIPTION:ALG Computer Consulting & Training is hosting a free technology workshop on October 16\, 2008 at 6:30 p.m. This event is open to business owners interested in better understanding and using computer technology. Consultants and technicians will be on hand to discuss any problems or issues. Call (440) 349-5555 or visit www.alg.cc and click on Right Clique.\nPlus:  Free Office SIG (special interest group) workshop.  Starts promptly at 5:30pm\, one hour before Right Clique\, and finishes in time for the Right Clique meeting.  No special registration needed - just sign up for Right Clique and show up an hour early.
X-ALT-DESC;FMTTYPE=text/html:ALG Computer Consulting & Training is hosting a free technology workshop on October 16\, 2008 at 6:30 p.m. This event is open to business owners interested in better understanding and using computer technology. Consultants and technicians will be on hand to discuss any problems or issues. Call (440) 349-5555 or visit www.alg.cc and click on Right Clique.\nPlus:  Free Office SIG (special interest group) workshop.  Starts promptly at 5:30pm\, one hour before Right Clique\, and finishes in time for the Right Clique meeting.  No special registration needed - just sign up for Right Clique and show up an hour early. \n
LOCATION:30640 Bainbridge Road Solon\, OH 44139
UID:e.368.83
SEQUENCE:3
DTSTAMP:20260424T031916Z
URL:https://public.beachwood.org/events/details/event-at-alg-computer-consulting-and-training-10-16-2008-83
END:VEVENT

END:VCALENDAR
