BEGIN:VCALENDAR
VERSION:2.0
PRODID:-//ChamberMaster//Event Calendar 2.0//EN
METHOD:PUBLISH
X-PUBLISHED-TTL:P3D
REFRESH-INTERVAL:P3D
CALSCALE:GREGORIAN
BEGIN:VEVENT
DTSTART:20080814T213000Z
DTEND:20080815T000000Z
X-MICROSOFT-CDO-ALLDAYEVENT:FALSE
SUMMARY:Event at ALG Computer Consulting and Training
DESCRIPTION:Pre-meeting SIG topic:\nTracking your Information is Easier than you think with Access 2007 with the Slide Master and Animation in PowerPoint 2007\nGet tips and tricks on how to start from scratch or use data kept in Office Excel to quickly create a robust Access 2007 application.\n? How to quickly and inexpensively develop a professional\, feature-rich intranet for your business!\n? Replace your bloated\, slow Acrobat Reader with something much better ? for free! \n? All about Microsoft Outlook Stationery and how to use it! \n? Right Quickies! \n\nDoor Prizes: \n ? TomTom One Touchscreen GPS!     \n? USB Web Camera! \n? $20 Zoup Gift Certificate! \n? $15 Panera Bread Gift Card!\n? $10 Mitchell's Ice Cream Gift Card!
X-ALT-DESC;FMTTYPE=text/html:Pre-meeting SIG topic:\nTracking your Information is Easier than you think with Access 2007 with the Slide Master and Animation in PowerPoint 2007\nGet tips and tricks on how to start from scratch or use data kept in Office Excel to quickly create a robust Access 2007 application.\n? How to quickly and inexpensively develop a professional\, feature-rich intranet for your business!\n? Replace your bloated\, slow Acrobat Reader with something much better ? for free! \n? All about Microsoft Outlook Stationery and how to use it! \n? Right Quickies! \n\nDoor Prizes: \n ? TomTom One Touchscreen GPS!     \n? USB Web Camera! \n? $20 Zoup Gift Certificate! \n? $15 Panera Bread Gift Card!\n? $10 Mitchell's Ice Cream Gift Card! 
LOCATION:30640 Bainbridge Road
UID:e.368.68
SEQUENCE:3
DTSTAMP:20260424T043736Z
URL:https://public.beachwood.org/events/details/event-at-alg-computer-consulting-and-training-08-14-2008-68
END:VEVENT

END:VCALENDAR
