BEGIN:VCALENDAR
VERSION:2.0
PRODID:-//ChamberMaster//Event Calendar 2.0//EN
METHOD:PUBLISH
X-PUBLISHED-TTL:P3D
REFRESH-INTERVAL:P3D
CALSCALE:GREGORIAN
BEGIN:VEVENT
DTSTART:20140502T160000Z
DTEND:20140502T220000Z
X-MICROSOFT-CDO-ALLDAYEVENT:FALSE
SUMMARY:Entrovation: An Expo of Innovative Entrepreneurs
DESCRIPTION:Entrovation is an Expo of Innovative Entrepreneurs. \n\nCome check out over 150 vendors and eat with six gourmet food trucks.\n\nFREE\n\nFriday\, May 2\n\n12:00-6:00 pm\n\nBeachwood Community Center
X-ALT-DESC;FMTTYPE=text/html:Entrovation is an Expo of Innovative Entrepreneurs.&nbsp\;<br />\nCome check out over 150 vendors and eat with six gourmet food trucks.<br />\nFREE<br />\nFriday\, May 2<br />\n12:00-6:00 pm<br />\nBeachwood Community Center
LOCATION:Beachwood Community Center
UID:e.368.1109
SEQUENCE:3
DTSTAMP:20260420T074410Z
URL:https://public.beachwood.org/events/details/entrovation-an-expo-of-innovative-entrepreneurs-05-02-2014-1109
END:VEVENT

END:VCALENDAR
