BEGIN:VCALENDAR
VERSION:2.0
PRODID:-//ChamberMaster//Event Calendar 2.0//EN
METHOD:PUBLISH
X-PUBLISHED-TTL:P3D
REFRESH-INTERVAL:P3D
CALSCALE:GREGORIAN
BEGIN:VEVENT
DTSTART:20230415T170000Z
DTEND:20230415T190000Z
X-MICROSOFT-CDO-ALLDAYEVENT:FALSE
SUMMARY:Empowering Epilepsy's Art Therapy for Loved Ones
DESCRIPTION:Take time for yourself to Illustrate your artistic flare and discover what you can do. Talk with other loved ones and caregivers for people with epilepsy. They understand exactly what you are going through\, and can help you realize you are not alone.\n\nLed by Art Therapist Sarah Brown\, LPCC\, ATR at our Empowering Epilepsy Headquarters in Beachwood\, OH.\n\nThere is a $5 fee to cover the cost of art supplies. Financial assistance is available on an as needed basis.
X-ALT-DESC;FMTTYPE=text/html:<p>Take time for yourself to Illustrate your artistic flare and discover what you can do. Talk with other loved ones and caregivers for people with epilepsy. They understand exactly what you are going through\, and can help you realize you are not alone.</p>\n\n<p>Led by Art Therapist Sarah Brown\, LPCC\, ATR at our Empowering Epilepsy Headquarters in Beachwood\, OH.</p>\n\n<p>There is a $5 fee to cover the cost of art supplies. Financial assistance is available on an as needed basis.</p>\n
LOCATION:Empowering Epilepsy Headquarters
UID:e.368.8566
SEQUENCE:3
DTSTAMP:20260424T125637Z
URL:https://public.beachwood.org/events/details/empowering-epilepsy-s-art-therapy-for-loved-ones-04-15-2023-8566
END:VEVENT

END:VCALENDAR
