BEGIN:VCALENDAR
VERSION:2.0
PRODID:-//ChamberMaster//Event Calendar 2.0//EN
METHOD:PUBLISH
X-PUBLISHED-TTL:P3D
REFRESH-INTERVAL:P3D
CALSCALE:GREGORIAN
BEGIN:VEVENT
DTSTART:20230522T223000Z
DTEND:20230523T003000Z
X-MICROSOFT-CDO-ALLDAYEVENT:FALSE
SUMMARY:Empowering Epilepsy's Art Therapy Class
DESCRIPTION:Join Empowering Epilepsy for our Art Therapy Program. Illustrate your artistic flare and discover what you can do while living with epilepsy and seizures.\n\nArt therapy is engaging in the creation of art\, facilitated by a registered art therapist to help with physical and emotional healing and expression. It allows inner feelings to take a visual form\, and can help with pain management\, anxiety\, and self-esteem.\n\nLed by Art Therapist Sarah Brown\, LPCC\, ATR at our Empowering Epilepsy Headquarters in Beachwood\, OH.\n\nThere is a $5 fee to cover the cost of art supplies. Financial assistance is available on an as needed basis.\n\nThis event was made possible by the generous support of Cuyahoga County Residents through a public grant through Cuyahoga Arts and Culture\, matched by a The Harry K. and Emma R. Fox Charitable Foundation.
X-ALT-DESC;FMTTYPE=text/html:<p>Join Empowering Epilepsy for our Art Therapy Program. Illustrate your artistic flare and discover what you can do while living with epilepsy and seizures.</p>\n\n<p>Art therapy is engaging in the creation of art\, facilitated by a registered art therapist to help with physical and emotional healing and expression. It allows inner feelings to take a visual form\, and can help with pain management\, anxiety\, and self-esteem.</p>\n\n<p>Led by Art Therapist Sarah Brown\, LPCC\, ATR at our Empowering Epilepsy Headquarters in Beachwood\, OH.</p>\n\n<p>There is a $5 fee to cover the cost of art supplies. Financial assistance is available on an as needed basis.</p>\n\n<p>This event was made possible by the generous support of Cuyahoga County Residents through a public grant through Cuyahoga Arts and Culture\, matched by a The Harry K. and Emma R. Fox Charitable Foundation.</p>\n
LOCATION:Empowering Epilepsy Headquarters
UID:e.368.8569
SEQUENCE:3
DTSTAMP:20260424T141419Z
URL:https://public.beachwood.org/events/details/empowering-epilepsy-s-art-therapy-class-05-22-2023-8569
END:VEVENT

END:VCALENDAR
