BEGIN:VCALENDAR
VERSION:2.0
PRODID:-//ChamberMaster//Event Calendar 2.0//EN
METHOD:PUBLISH
X-PUBLISHED-TTL:P3D
REFRESH-INTERVAL:P3D
CALSCALE:GREGORIAN
BEGIN:VEVENT
DTSTART;VALUE=DATE:20090606
DTEND;VALUE=DATE:20090607
TRANSP:TRANSPARENT
X-MICROSOFT-CDO-ALLDAYEVENT:TRUE
SUMMARY:''Employing Yourself'' Seminar - Corporate College
DESCRIPTION:Employing Yourself SeminarHosted byCorporate College The seminar includes six presentations covering a variety of topics to help entrepreneurs start or grow a business\, a continental breakfast\, lunch\, and a $50 discount off the membership price to the Key Entrepreneur Developement Center (KEDC) at Corporate College. Marcia Pledger\, Plain Dealer reporter and author of My Biggest Mistake and How I Fixed It\, will moderate the Funding Sources discussion.  Attendees will receive a signed copy of her book. The program will be held on Saturday\, June 6th\, at Corporate College East\, beginning at 7:45 AM with registration. For more information on this program\, including speakers and the day's agenda\, click here or you may call 216-977-2910 or email KEDC@tri-c.edu.
X-ALT-DESC;FMTTYPE=text/html:<div align="center"><font size="3"><strong>Employing Yourself Seminar</strong></font></div><div align="center">Hosted by</div><div align="center">Corporate College</div><div>&nbsp\;</div><div>The seminar includes six presentations covering a variety of topics to help entrepreneurs start or grow a business\, a continental breakfast\, lunch\, and a $50 discount off the membership price to the Key Entrepreneur Developement Center (KEDC) at Corporate College.</div><div>&nbsp\;</div><div>Marcia Pledger\, Plain Dealer reporter and author of <em>My Biggest Mistake and How I Fixed It</em>\, will moderate the Funding Sources discussion.&nbsp\; Attendees will receive a signed copy of her book.</div><div>&nbsp\;</div><div>The program will be held on Saturday\, June 6th\, at Corporate College East\, beginning at 7:45 AM with registration.</div><div>&nbsp\;</div><div>For more information on this program\, including speakers and the day's agenda\, <a href="https://secure.chambermaster.com/FCKeditor/UserFiles/chambers/368/File/EmployingYourself%20Flyer%20June09.pdf">click here</a> or you may call 216-977-2910 or email <a href="mailto:KEDC@tri-c.edu">KEDC@tri-c.edu</a>.</div><div>&nbsp\;</div><div>&nbsp\;</div>
LOCATION:Corporate College East4400 Richmond RoadWarrensville Hts\, OH
UID:e.368.213
SEQUENCE:3
DTSTAMP:20260423T171554Z
URL:https://public.beachwood.org/events/details/employing-yourself-seminar-corporate-college-06-06-2009-213
END:VEVENT

END:VCALENDAR
