BEGIN:VCALENDAR
VERSION:2.0
PRODID:-//ChamberMaster//Event Calendar 2.0//EN
METHOD:PUBLISH
X-PUBLISHED-TTL:P3D
REFRESH-INTERVAL:P3D
CALSCALE:GREGORIAN
BEGIN:VEVENT
DTSTART:20090223T113000Z
DTEND:20090223T140000Z
X-MICROSOFT-CDO-ALLDAYEVENT:FALSE
SUMMARY:Employee Free Choice Act - Seminar
DESCRIPTION:Meyers Roman and The Human Resource Departemnt have teamed up to bring you a "Breakfast Briefing" designed to help your business entitled: Preparing for the Impending Employee Free Choice Act Under the Employee Free Choice Act ("EFCA")\, a labor union may demand that the National Labor Relations Board certify it as your employees' collective bargaining representative based on a simple majority (50% + 1) card check process alone--without the need for a traditional secret ballot election. The EFCA was passed by the House of Representatives in 2007\, but it stalled in the Senate. President Obama has promised to sign the EFCA if it is passed by Cognress. While it is unclear whether the EFCA will pass as currently proposed\, it will certainly make union organizing easier\, negotiating a first contract more difficult and increase employer liability. Learn what the EFCA means for the future of your business\, as well as the important steps to take now to prevent your company from becoming a union target in the fturue. Please RSVP by email to attys@meyersroman.com or by calling MRFL at 216-831-0042 to reserve a seat.  A continental breakfast will be served. Date: Monday\, February 23rd Time:   7:30 AM - Breakfast\, Networking\, Introduction           8:00 AM - Presentation & Q&A           9:00 AM - Closing remarks Location: Hilton Cleveland East/Beachwood\, 3663 Park East Drive
X-ALT-DESC;FMTTYPE=text/html:<div><font color="#000080">Meyers Roman and The Human Resource Departemnt have teamed up to bring you a&nbsp\;&quot\;Breakfast Briefing&quot\; designed to help your business entitled:</font></div><div><font color="#000080">&nbsp\;</font></div><div align="center"><font color="#000080" size="4">Preparing for the Impending </font></div><div align="center"><font color="#000080" size="4">Employee Free Choice Act</font></div><div><font color="#000080">&nbsp\;</font></div><div><font color="#000080">Under the Employee Free Choice Act (&quot\;EFCA&quot\;)\, a labor union may demand that the National Labor Relations Board certify it as your employees&rsquo\; collective bargaining representative based on a simple majority (50% + 1) card check process alone--without the need for a traditional secret ballot election. The EFCA was passed by the House of Representatives in 2007\, but it stalled in the Senate. President Obama has promised to sign the EFCA if it is passed by Cognress. While it is unclear whether the EFCA will pass as currently proposed\, it will certainly make union organizing easier\, negotiating a first contract more difficult and increase employer liability.</font></div><div><font color="#000080">&nbsp\;</font></div><div><font color="#000080">Learn what the EFCA means for the future of your business\, as well as the important steps to take now to prevent your company from becoming a union target in the fturue.</font></div><div><font color="#000080">&nbsp\;</font></div><div><font color="#000080">Please RSVP by email to </font><a href="mailto:attys@meyersroman.com"><font color="#000080">attys@meyersroman.com</font></a><font color="#000080"> or by calling MRFL at 216-831-0042 to reserve a seat.&nbsp\; A continental breakfast will be served.</font></div><div><font color="#000080">&nbsp\;</font></div><div><font color="#000080">Date: Monday\, February 23rd</font></div><div><font color="#000080">&nbsp\;</font></div><div><font color="#000080">Time:&nbsp\;&nbsp\; 7:30 AM - Breakfast\, Networking\, Introduction</font></div><div><font color="#000080">&nbsp\;&nbsp\;&nbsp\;&nbsp\;&nbsp\;&nbsp\;&nbsp\;&nbsp\;&nbsp\;&nbsp\;&nbsp\;8:00 AM - Presentation &amp\; Q&amp\;A</font></div><div><font color="#000080">&nbsp\;&nbsp\;&nbsp\;&nbsp\;&nbsp\;&nbsp\;&nbsp\;&nbsp\;&nbsp\;&nbsp\;&nbsp\;9:00 AM - Closing remarks</font></div><div><font color="#000080">&nbsp\;</font></div><div><font color="#000080">Location: Hilton Cleveland East/Beachwood\, 3663 Park East Drive</font></div>
LOCATION:Hilton Cleveland East/Beachwood3663 Park East Drive
UID:e.368.151
SEQUENCE:3
DTSTAMP:20260423T213334Z
URL:https://public.beachwood.org/events/details/employee-free-choice-act-seminar-02-23-2009-151
END:VEVENT

END:VCALENDAR
