BEGIN:VCALENDAR
VERSION:2.0
PRODID:-//ChamberMaster//Event Calendar 2.0//EN
METHOD:PUBLISH
X-PUBLISHED-TTL:P3D
REFRESH-INTERVAL:P3D
CALSCALE:GREGORIAN
BEGIN:VEVENT
DTSTART:20081107T130000Z
DTEND:20081107T143000Z
X-MICROSOFT-CDO-ALLDAYEVENT:FALSE
SUMMARY:EDUCATIONAL SEMINAR-RELATIONSHIP MARKETING
DESCRIPTION:Following a survey of Chamber members by our newly formed Education Committee\, a series of Educational Seminars sponsored by KeyBank are being arranged.The first is a two-part seminar on Relationship Marketing and will be held on Friday morning\, November 7th\, beginning at 8:00 AM at the Chamber office.Our speaker will be Peter Bruening\, president of The Selling Points Group\, Inc.\, and author of The Power Guide to Supportive Selling.The program is FREE for members and $15 for nonmembers and includes a Continental breakfast.Registration is requested for this event.
X-ALT-DESC;FMTTYPE=text/html:<p>Following a survey of Chamber members by our newly formed Education Committee\, a series of Educational Seminars sponsored by KeyBank are being arranged.</p><p>The first is a two-part seminar on Relationship Marketing and will be held on Friday morning\, November 7th\, beginning at 8:00 AM at the Chamber office.</p><p>Our speaker will be Peter Bruening\, president of The Selling Points Group\, Inc.\, and author of <em>The Power Guide to Supportive Selling.</em></p><p>The program is FREE for members and $15 for nonmembers and includes a Continental breakfast.</p><p>Registration is requested for this event.</p><p>&nbsp\;</p>
LOCATION:Beachwood Chamber of CommerceThree Commerce Park Square23230 Chagrin Blvd.\, #900Beachwood
UID:e.368.96
SEQUENCE:3
DTSTAMP:20260424T130743Z
URL:https://public.beachwood.org/events/details/educational-seminar-relationship-marketing-11-07-2008-96
END:VEVENT

END:VCALENDAR
