BEGIN:VCALENDAR
VERSION:2.0
PRODID:-//ChamberMaster//Event Calendar 2.0//EN
METHOD:PUBLISH
X-PUBLISHED-TTL:P3D
REFRESH-INTERVAL:P3D
CALSCALE:GREGORIAN
BEGIN:VEVENT
DTSTART:20090320T120000Z
DTEND:20090320T133000Z
X-MICROSOFT-CDO-ALLDAYEVENT:FALSE
SUMMARY:EDUCATION SEMINAR-MARCH
DESCRIPTION:This month's seminar in the KeyBank Education Series is a follow-up to our January internet seminar led by Worksmart eMarketing. On Friday\, March 20th\, we will have a follow-up panel to answer your questions on Facebook\, Linked In\, and Blogs\, followed by a breakout into 3 sessions for more in-depth discussion.  Attendees will be able to choose which sessiont they would like to participate in. A Continental breakfast will be provided. Cost:  Members--FREE\; Nonmembers--$15 Please RSVP online to ensure that we have sufficient space for all attendees. Any questions\, please contact the Chamber at 216-831-0003 or email mail@beachwood.org
X-ALT-DESC;FMTTYPE=text/html:<div>This month&rsquo\;s seminar in the <a href="http://www.key.com">KeyBank</a> Education Series is a follow-up to our January internet seminar led by Worksmart eMarketing.</div><div>&nbsp\;</div><div>On Friday\, March 20th\, we will have a follow-up panel to answer your questions on Facebook\, Linked In\, and Blogs\, followed by a breakout into 3 sessions for more in-depth discussion.&nbsp\; Attendees will be able to choose which sessiont they would like to participate in.</div><div>&nbsp\;</div><div>A Continental breakfast will be provided.</div><div>&nbsp\;</div><div>Cost:&nbsp\; Members--FREE\; Nonmembers--$15</div><div>&nbsp\;</div><div>Please RSVP online to ensure that we have sufficient space for all attendees.</div><div>&nbsp\;</div><div>Any questions\, please contact the Chamber at 216-831-0003 or email <a href="mailto:mail@beachwood.org">mail@beachwood.org</a></div><div>&nbsp\;</div>
LOCATION:Beachwood Chamber of Commerce Three Commerce Park Square 23230 Chagrin Blvd\, Suite 900 216-831-0003
UID:e.368.166
SEQUENCE:3
DTSTAMP:20260423T201841Z
URL:https://public.beachwood.org/events/details/education-seminar-march-03-20-2009-166
END:VEVENT

END:VCALENDAR
