BEGIN:VCALENDAR
VERSION:2.0
PRODID:-//ChamberMaster//Event Calendar 2.0//EN
METHOD:PUBLISH
X-PUBLISHED-TTL:P3D
REFRESH-INTERVAL:P3D
CALSCALE:GREGORIAN
BEGIN:VEVENT
DTSTART:20090115T170000Z
DTEND:20090115T183000Z
X-MICROSOFT-CDO-ALLDAYEVENT:FALSE
SUMMARY:Economic Forecast 2009
DESCRIPTION:Executive Caterers\nCorporate Club at Landerhaven Series \n\nECONOMIC FORECAST 2009\nThursday\, January 15\, 2009\n11:30 am Registration * 12 Noon Program & Luncheon\n\nRichard DeKaser\, Senior VP & Chief Economist\, National City Bank\nModerated by: Michael Settonni\, President & CEO\, Broadcast Media Ideas\n\n\nExecutive Caterers\n6111 Landerhaven Drive\nMayfield Heights\, OH 44124\nCost: $30/person or $200/table of eight\nRegister by calling 440.449.0700 x: 241 or at www.ccatlanderhaven.com\nPre-registration is recommended
X-ALT-DESC;FMTTYPE=text/html:Executive Caterers\nCorporate Club at Landerhaven Series \n\nECONOMIC FORECAST 2009\nThursday\, January 15\, 2009\n11:30 am Registration * 12 Noon Program & Luncheon\n\nRichard DeKaser\, Senior VP & Chief Economist\, National City Bank\nModerated by: Michael Settonni\, President & CEO\, Broadcast Media Ideas\n\n\nExecutive Caterers\n6111 Landerhaven Drive\nMayfield Heights\, OH 44124\nCost: $30/person or $200/table of eight\nRegister by calling 440.449.0700 x: 241 or at www.ccatlanderhaven.com\nPre-registration is recommended  \n\n
LOCATION:Executive Caterers at Landerhaven
UID:e.368.140
SEQUENCE:3
DTSTAMP:20260423T223653Z
URL:https://public.beachwood.org/events/details/economic-forecast-2009-01-15-2009-140
END:VEVENT

END:VCALENDAR
