BEGIN:VCALENDAR
VERSION:2.0
PRODID:-//ChamberMaster//Event Calendar 2.0//EN
METHOD:PUBLISH
X-PUBLISHED-TTL:P3D
REFRESH-INTERVAL:P3D
CALSCALE:GREGORIAN
BEGIN:VEVENT
DTSTART:20090403T230000Z
DTEND:20090403T040000Z
X-MICROSOFT-CDO-ALLDAYEVENT:FALSE
SUMMARY:EarthWatch Ohio Green Gala
DESCRIPTION:EarthWatch Ohio's First AnnualGreen Gala will be held on Friday\, April 3rd\, 7 PM-Midnight\, at Executive Caterers. Guest speaker will be Ed Begley\, Jr. and WKYC-T V news reporter Maureen Kyle will be the evening's MC.  Listen to the positive vibrations of the Carlos Jones & PLUS Band. Tickets are $100 per person ($75 tax deductible) and include appetizers\, dinner\, one drink ticket\, Ed Begley\, Jrs.'s presentation\, book signing\, live music\, and more! EarthWatch Ohio is a state-wide nonprofit organization working to create a sustainable future for Ohio. The organization encourages individuals\, businesses and government officials to adopt a sustainable lifestyle\, business practices\, and policies. Ed Begley\, Jr. is one of the hottest speakers on eco-living in America. A committed environmentalist for more than 30 years\, Begley has always tried to "live simply so others may simply live." Now\, as more of us are looking for ways to reduce our impact on the planet and live a better\, greener life\, Ed shares his experiences on what works\, what doesn't an what will save you money? For more information on the event and/or to purchase tickets\, call 216-387-1609\, visit ...  www.earthwatchohio.org or you may mail your check to:EarthWatch Ohio2062 Murray HillCleveland\, OH 44106
X-ALT-DESC;FMTTYPE=text/html:<div align="center"><font color="#336600" size="4"><strong>EarthWatch Ohio&rsquo\;s First Annual</strong></font></div><div align="center"><font color="#336600" size="4"><strong>Green Gala</strong></font></div><div>&nbsp\;</div><div>will be held on Friday\, April 3rd\, 7 PM-Midnight\, at Executive Caterers.</div><div>&nbsp\;</div><div>Guest speaker will be Ed Begley\, Jr. and WKYC-T V news reporter Maureen Kyle will be the evening&rsquo\;s MC.&nbsp\; Listen to the positive vibrations of the Carlos Jones &amp\; PLUS Band.</div><div>&nbsp\;</div><div>Tickets are $100 per person ($75 tax deductible)&nbsp\;and include appetizers\, dinner\, one drink ticket\, Ed Begley\, Jrs.&rsquo\;s presentation\, book signing\, live music\, and more!</div><div>&nbsp\;</div><div dir="ltr">EarthWatch Ohio is a state-wide nonprofit organization working to create a sustainable future for Ohio. The organization encourages individuals\, businesses and government officials to adopt a sustainable lifestyle\, business practices\, and policies.</div><div dir="ltr">&nbsp\;</div><div dir="ltr">Ed Begley\, Jr. is one of the hottest speakers on eco-living in America. A committed environmentalist for more than 30 years\, Begley has always tried to &quot\;live simply so others may simply live.&quot\; Now\, as more of us are looking for ways to reduce our impact on the planet and live a better\, greener life\, Ed shares his experiences on what works\, what doesn&rsquo\;t an what will save you money?</div><div dir="ltr">&nbsp\;</div><div dir="ltr">For more information on the event&nbsp\;and/or to purchase tickets\, call 216-387-1609\,&nbsp\;visit ...</div><div dir="ltr">&nbsp\;</div><div dir="ltr"><div>&nbsp\;<a href="http://www.earthwatchohio.org">www.earthwatchohio.org</a>&nbsp\;or you&nbsp\;may&nbsp\;mail your&nbsp\;check to:</div><blockquote dir="ltr" style="margin-right: 0px"><div>EarthWatch Ohio</div><div>2062 Murray Hill</div><div>Cleveland\, OH 44106</div></blockquote></div>
LOCATION:Executive Caterers at Landerhaven 6111 Landerhaven Dr Mayfield Hts
UID:e.368.152
SEQUENCE:3
DTSTAMP:20260423T192628Z
URL:https://public.beachwood.org/events/details/earthwatch-ohio-green-gala-04-03-2009-152
END:VEVENT

END:VCALENDAR
