BEGIN:VCALENDAR
VERSION:2.0
PRODID:-//ChamberMaster//Event Calendar 2.0//EN
METHOD:PUBLISH
X-PUBLISHED-TTL:P3D
REFRESH-INTERVAL:P3D
CALSCALE:GREGORIAN
BEGIN:VEVENT
DTSTART:20141113T220000Z
DTEND:20141114T000000Z
X-MICROSOFT-CDO-ALLDAYEVENT:FALSE
SUMMARY:Dollar Bank Business After Hours
DESCRIPTION:We cordially invite you to attend a Business After Hours\n\nSponsored by Dollar Bank - Beachwood Private Banking Office\n\n\n\nHors d'oeuvres\, beer\, wine and soft drinks will be served.
X-ALT-DESC;FMTTYPE=text/html:We cordially invite you to attend a Business After Hours<br />\nSponsored by Dollar Bank - Beachwood Private Banking Office<br />\n<br />\nHors d&#39\;oeuvres\, beer\, wine and soft drinks will be served.
LOCATION:Dollar Bank Beachwood Private Banking Office 26949 Chagrin Boulevard (back entrance of building) Beachwood\, OH 44122
UID:e.368.1186
SEQUENCE:3
DTSTAMP:20260419T225946Z
URL:https://public.beachwood.org/events/details/dollar-bank-business-after-hours-11-13-2014-1186
END:VEVENT

END:VCALENDAR
