BEGIN:VCALENDAR
VERSION:2.0
PRODID:-//ChamberMaster//Event Calendar 2.0//EN
METHOD:PUBLISH
X-PUBLISHED-TTL:P3D
REFRESH-INTERVAL:P3D
CALSCALE:GREGORIAN
BEGIN:VEVENT
DTSTART:20230622T210000Z
DTEND:20230622T230000Z
X-MICROSOFT-CDO-ALLDAYEVENT:FALSE
SUMMARY:Diamonds in the Networking Rough...networking event
DESCRIPTION:NETWORKING BRILLANCE at DIAMONDS DIRECT\n\n\n\nWe are excited to extend a warm invitation to all members of the Beachwood\n\nChamber of Commerce to a highly anticipated networking event.  This occasion is designed to facilitate meaningful connections\, create shining alliances\, and foster collaborations within our business community.\n\n\n\nPlease plan to join us at Diamonds Direct\, and let General Manager Derek\n\nCaron give you insight into the world of diamonds\, including information on\n\nlab made diamonds.  Diamonds Direct is unique because they offer:\n\n\n\n* Lifetime Warranty                      * One-on-one Guidance\n\n* Risk Free Shopping                  * 110% Lifetime Upgrade\n\n* Free delivery                             * Complimentary Care & Repairs\n\n\n\nPlease come and enjoy a section of delicious refreshments and hors\n\nd'oeuvres.  Members are welcome to bring a guest from their organization.\n\nPlease inform us in advance of any additional attendees.\n\n\n\nPrepare your elevator pitch and bring business cards for exchanging \n\ncontact information.  Approach others with a friendly and professional\n\nattitude\, and actively listen to great conversations.  \n\n\n\nWe hope you will join us for this exciting networking opportunity\, where you\n\ncan connect with fellow Chamber members\, expand your professional network\,\n\nand explore new avenues of growth.  Don't miss out on this chance to \n\nstrengthen your business connections and forge lasting partnerships.\n\n\n\nThank you for your continued support and participation in the Beachwood Chamber of Commerce.  We look forward to welcoming you to this event.\n\n\n\nRegards\,\n\n\n\nDavid Lapierre\n\nExecutive Director\n\ndirector@beachwood.org\n\n216-831-0003
X-ALT-DESC;FMTTYPE=text/html:<br />\nNETWORKING BRILLANCE at DIAMONDS DIRECT<br />\n<br />\nWe are excited to extend a warm invitation to all members of the Beachwood<br />\nChamber of Commerce to a highly anticipated networking event. &nbsp\;This occasion&nbsp\;is designed to facilitate meaningful connections\, create shining alliances\, and foster collaborations&nbsp\;within our business community.<br />\n<br />\nPlease plan to join us at Diamonds Direct\, and let General Manager Derek<br />\nCaron give you insight into the world of diamonds\, including information on<br />\nlab made diamonds. &nbsp\;Diamonds Direct is unique because they offer:<br />\n<br />\n* Lifetime Warranty &nbsp\; &nbsp\; &nbsp\; &nbsp\; &nbsp\; &nbsp\; &nbsp\; &nbsp\; &nbsp\; &nbsp\; &nbsp\;* One-on-one Guidance<br />\n* Risk Free Shopping &nbsp\; &nbsp\; &nbsp\; &nbsp\; &nbsp\; &nbsp\; &nbsp\; &nbsp\; &nbsp\;* 110% Lifetime Upgrade<br />\n* Free delivery &nbsp\; &nbsp\; &nbsp\; &nbsp\; &nbsp\; &nbsp\; &nbsp\; &nbsp\; &nbsp\; &nbsp\; &nbsp\; &nbsp\; &nbsp\; &nbsp\; * Complimentary Care &amp\; Repairs<br />\n<br />\nPlease come and enjoy a section of delicious refreshments and hors<br />\nd&#39\;oeuvres. &nbsp\;Members are welcome to bring a guest from their organization.<br />\nPlease inform us in advance of any additional attendees.<br />\n<br />\nPrepare your elevator pitch and bring business cards for exchanging&nbsp\;<br />\ncontact information. &nbsp\;Approach others with a friendly and professional<br />\nattitude\, and actively listen to great conversations. &nbsp\;<br />\n<br />\nWe hope you will join us for this exciting networking opportunity\, where you<br />\ncan connect with fellow Chamber members\, expand your professional network\,<br />\nand explore new avenues of growth. &nbsp\;Don&#39\;t miss out on this chance to&nbsp\;<br />\nstrengthen your business connections and forge lasting partnerships.<br />\n<br />\nThank you for your continued support and participation in the Beachwood Chamber of Commerce. &nbsp\;We look forward to welcoming you to this event.<br />\n<br />\nRegards\,<br />\n<br />\nDavid Lapierre<br />\nExecutive Director<br />\ndirector@beachwood.org<br />\n216-831-0003<br />\n<br />\n<br />\n<br />\n&nbsp\;
LOCATION:Diamonds Direct Suite20 2101 Richmond Rd Beachwood\, OH 44122 216-273-2812
UID:e.368.8650
SEQUENCE:3
DTSTAMP:20260424T153455Z
URL:https://public.beachwood.org/events/details/diamonds-in-the-networking-rough-networking-event-8650
END:VEVENT

END:VCALENDAR
