BEGIN:VCALENDAR
VERSION:2.0
PRODID:-//ChamberMaster//Event Calendar 2.0//EN
METHOD:PUBLISH
X-PUBLISHED-TTL:P3D
REFRESH-INTERVAL:P3D
CALSCALE:GREGORIAN
BEGIN:VEVENT
DTSTART:20150427T223000Z
DTEND:20150428T003000Z
X-MICROSOFT-CDO-ALLDAYEVENT:FALSE
SUMMARY:Dementia: Seeing it Through the Eyes of the Person
DESCRIPTION:Dr. Lori Stevic-Rust is Montefiore's dementia program advisor and is a contributing writer for Cleveland Business Connects magazine and is National Director\, Artower Advisory Services\, LLC.\n\nPresentation highlights:\n\n\n	What does a diagnosis of dementia really mean to you and your family?\n	How dementia affects not only the memory\, but mood\, behavior and personality.\n	What different types of behaviors mean and how to best manage them.\n	Decision-making   When is it no longer safe to be at home alone\, to drive or manage finances?\n	What to do when a loved one says\, "I'm fine" and refuses help.\n\n\nReserve your spot today!\n\n \n\nFor more information\, contact Kristen Morelli\, Montefiore memory care program manager\, at 216.910.2323 or kmorelli@montefiorecare.org
X-ALT-DESC;FMTTYPE=text/html:<div>Dr. Lori Stevic-Rust is Montefiore&rsquo\;s dementia program advisor and is a contributing writer for Cleveland Business Connects magazine and is National Director\, Artower Advisory Services\, LLC.</div>\n\n<p>Presentation highlights:</p>\n\n<ul>\n	<li>What does a diagnosis of dementia really mean to you and your family?</li>\n	<li>How dementia affects not only the memory\, but mood\, behavior and personality.</li>\n	<li>What different types of behaviors mean and how to best manage them.</li>\n	<li>Decision-making&nbsp\;&ndash\; When is it no longer safe to be at home alone\, to drive or manage finances?</li>\n	<li>What to do when a loved one says\, &ldquo\;I&rsquo\;m fine&rdquo\; and refuses help.</li>\n</ul>\n\n<div style="text-align:center"><em><strong>Reserve your spot today!</strong></em></div>\n\n<div><em><strong>&nbsp\;</strong></em></div>\n\n<div>For more information\, contact Kristen Morelli\, Montefiore memory care program manager\, at 216.910.2323 or&nbsp\;<a href="mailto:kmorelli@montefiorecare.org" style="border: 0px\; font-family: inherit\; font-style: inherit\; font-weight: inherit\; margin: 0px\; outline: 0px\; padding: 0px\; color: rgb(102\, 102\, 204)\; text-decoration: none\;" target="_blank">kmorelli@mon</a><a href="mailto:kmorelli@montefiorecare.org" style="border: 0px\; font-family: inherit\; font-style: inherit\; font-weight: inherit\; margin: 0px\; outline: 0px\; padding: 0px\; color: rgb(102\, 102\, 204)\; text-decoration: none\;" target="_blank">tefiorecare.org</a></div>\n
LOCATION:One David N. Myers Parkway\, Beachwood\, OH 44122
UID:e.368.3725
SEQUENCE:3
DTSTAMP:20260419T160954Z
URL:https://public.beachwood.org/events/details/dementia-seeing-it-through-the-eyes-of-the-person-04-27-2015-3725
END:VEVENT

END:VCALENDAR
