BEGIN:VCALENDAR
VERSION:2.0
PRODID:-//ChamberMaster//Event Calendar 2.0//EN
METHOD:PUBLISH
X-PUBLISHED-TTL:P3D
REFRESH-INTERVAL:P3D
CALSCALE:GREGORIAN
BEGIN:VEVENT
DTSTART:20151202T220000Z
DTEND:20151202T233000Z
X-MICROSOFT-CDO-ALLDAYEVENT:FALSE
SUMMARY:December Networking After Five
DESCRIPTION:PRE-REGISTRATION NOW CLOSED.  WALK-INS WELCOME TONIGHT!\n\n\n\nDecember Networking After Five\n\n\n\nJoin us for our monthly Networking After Five event\n\n\n\nLight refreshments will be served.\n\n\n\n* Learn new networking tips and tricks\n\n\n\n* Drop your business card for a chance to win a gift certificate\n\n\n\n* You won't want to miss your chance to win $25 cash.  Every Beachwood Chamber member company name has been placed in a hopper.  If your company name is pulled from the hopper and you are in attendance\, you win $25 cash. If you were not there\, the $25 goes back into the pot and $25 more added the next month!   It continues each month until there is a winner\, then we start again at $25.
X-ALT-DESC;FMTTYPE=text/html:<span style="color:#FF0000\;">PRE-REGISTRATION NOW CLOSED.&nbsp\; WALK-INS WELCOME TONIGHT!</span><br />\n<br />\nDecember Networking After Five<br />\n<br />\nJoin us for our monthly Networking After Five event<br />\n<br />\nLight refreshments will be served.<br />\n<br />\n* Learn new networking tips and tricks<br />\n<br />\n* Drop your business card for a chance to win a gift certificate<br />\n<br />\n* You won&#39\;t want to miss your chance to win <em>$25 cash</em>.&nbsp\; Every Beachwood Chamber member company name has been placed in a hopper.&nbsp\; If your company name is pulled from the hopper and you are in attendance\, you win $25 cash. If you were not there\, the $25 goes back into the pot and $25 more added the next month! &nbsp\; It continues each month until there is a winner\, then we start again at $25.&nbsp\;
LOCATION:Cleveland Clinic Beachwood Family Health & Surgery Center 26900 Cedar Road Beachwood\, OH 44122
UID:e.368.3786
SEQUENCE:3
DTSTAMP:20260420T060441Z
URL:https://public.beachwood.org/events/details/december-networking-after-five-12-02-2015-3786
END:VEVENT

END:VCALENDAR
