BEGIN:VCALENDAR
VERSION:2.0
PRODID:-//ChamberMaster//Event Calendar 2.0//EN
METHOD:PUBLISH
X-PUBLISHED-TTL:P3D
REFRESH-INTERVAL:P3D
CALSCALE:GREGORIAN
BEGIN:VEVENT
DTSTART:20141202T220000Z
DTEND:20141202T233000Z
X-MICROSOFT-CDO-ALLDAYEVENT:FALSE
SUMMARY:December Networking After Five
DESCRIPTION:Online registration closed.  Walk-ins welcome!\n\n\n\nDecember Networking After Five\n\nJoin us at the Cleveland Clinic's Beachwood Family Health & Surgery Center atrium for light refreshments and an informal networking event.
X-ALT-DESC;FMTTYPE=text/html:<span style="color: rgb(0\, 100\, 0)\;"><strong>Online registration closed.&nbsp\; Walk-ins welcome!</strong></span><br />\n<br />\nDecember Networking After Five<br />\nJoin us at the Cleveland Clinic&#39\;s Beachwood Family Health &amp\; Surgery Center atrium for light refreshments and an informal networking event.<br />\n&nbsp\;
LOCATION:Cleveland Clinic Beachwood Family Health & Surgery Center 26900 Cedar Road Beachwood\, OH 44122
UID:e.368.1188
SEQUENCE:3
DTSTAMP:20260419T213043Z
URL:https://public.beachwood.org/events/details/december-networking-after-five-12-02-2014-1188
END:VEVENT

END:VCALENDAR
