BEGIN:VCALENDAR
VERSION:2.0
PRODID:-//ChamberMaster//Event Calendar 2.0//EN
METHOD:PUBLISH
X-PUBLISHED-TTL:P3D
REFRESH-INTERVAL:P3D
CALSCALE:GREGORIAN
BEGIN:VEVENT
DTSTART:20141217T163000Z
DTEND:20141217T181000Z
X-MICROSOFT-CDO-ALLDAYEVENT:FALSE
SUMMARY:December Chamber Luncheon
DESCRIPTION:Chamber December Luncheon    \n\n\n\nDecember Luncheon Sponsor: Dollar Bank\n\n\n\n\n\nBeachwood Chamber Annual Meeting and Round-Robin Networking Event
X-ALT-DESC;FMTTYPE=text/html:Chamber December Luncheon&nbsp\;&nbsp\;&nbsp\;&nbsp\;<br />\n<br />\nDecember Luncheon Sponsor: Dollar Bank<br />\n<br />\n<br />\nBeachwood Chamber Annual Meeting and Round-Robin Networking Event
LOCATION:Maggiano's Little Italy Beachwood Place 26300 Cedar Road Beachwood\, OH 44122
UID:e.368.1116
SEQUENCE:3
DTSTAMP:20260419T213356Z
URL:https://public.beachwood.org/events/details/december-chamber-luncheon-12-17-2014-1116
END:VEVENT

END:VCALENDAR
