BEGIN:VCALENDAR
VERSION:2.0
PRODID:-//ChamberMaster//Event Calendar 2.0//EN
METHOD:PUBLISH
X-PUBLISHED-TTL:P3D
REFRESH-INTERVAL:P3D
CALSCALE:GREGORIAN
BEGIN:VEVENT
DTSTART:20191212T164500Z
DTEND:20191212T180000Z
X-MICROSOFT-CDO-ALLDAYEVENT:FALSE
SUMMARY:December 2019 Women's Connection
DESCRIPTION:Entrepreneuria: Keeping the Doors Open\n\n \n\nJoin us for an afternoon of holiday festivities!\n\n\n	Enjoy a panel discussion on entrepreneurship featuring :\n	Ivy Burge -Ellie May's Gourmet Cookies\n	Katie Melnick - Fizz Creative\n	Katie Van Dyke - CSU SBDC\n	Enjoy a cookie decorating activity with Ivy Burge\n	Don't forget your ugly sweater- there will be a contest and prize!
X-ALT-DESC;FMTTYPE=text/html:<div style="color: rgb(64\, 63\, 66)\; font-family: Arial\, Verdana\, Helvetica\, sans-serif\; font-size: 12px\; white-space: pre-wrap\; background-color: rgb(255\, 255\, 255)\; text-align: center\;"><span style="font-size:16px\;"><strong>Entrepreneuria: Keeping the Doors Open</strong></span></div>\n\n<div style="color: rgb(64\, 63\, 66)\; font-family: Arial\, Verdana\, Helvetica\, sans-serif\; font-size: 12px\; white-space: pre-wrap\; background-color: rgb(255\, 255\, 255)\; text-align: center\;">&nbsp\;</div>\n\n<div style="color: rgb(64\, 63\, 66)\; font-family: Arial\, Verdana\, Helvetica\, sans-serif\; font-size: 12px\; white-space: pre-wrap\; background-color: rgb(255\, 255\, 255)\;">Join us for an afternoon of holiday festivities!</div>\n\n<ul style="padding: 0px\; margin: 0px 0px 0px 40px\; color: rgb(64\, 63\, 66)\; font-family: Arial\, Verdana\, Helvetica\, sans-serif\; font-size: 12px\; white-space: pre-wrap\; background-color: rgb(255\, 255\, 255)\;">\n	<li style="padding: 0px\; margin: 0px\; line-height: 1.2\;">Enjoy a panel discussion on entrepreneurship featuring :</li>\n	<li style="padding: 0px\; margin: 0px 0px 0px 6em\; line-height: 1.2\;">Ivy Burge -Ellie May&#39\;s Gourmet Cookies</li>\n	<li style="padding: 0px\; margin: 0px 0px 0px 6em\; line-height: 1.2\;">Katie Melnick - Fizz Creative</li>\n	<li style="padding: 0px\; margin: 0px 0px 0px 6em\; line-height: 1.2\;">Katie Van Dyke - CSU SBDC</li>\n	<li style="padding: 0px\; margin: 0px\; line-height: 1.2\;">Enjoy a cookie decorating activity with Ivy Burge</li>\n	<li style="padding: 0px\; margin: 0px\; line-height: 1.2\;">Don&#39\;t forget your ugly sweater- there will be a contest and prize!</li>\n</ul>\n\n<div style="color: rgb(64\, 63\, 66)\; font-family: Arial\, Verdana\, Helvetica\, sans-serif\; font-size: 12px\; white-space: pre-wrap\; background-color: rgb(255\, 255\, 255)\;">&nbsp\;</div>\n\n<div style="color: rgb(64\, 63\, 66)\; font-family: Arial\, Verdana\, Helvetica\, sans-serif\; font-size: 12px\; white-space: pre-wrap\; background-color: rgb(255\, 255\, 255)\;">&nbsp\;</div>\n
LOCATION:Effective Leadership Academy 4480 Richmond Road Warrensville Heights\, OH 44128
UID:e.368.8189
SEQUENCE:3
DTSTAMP:20260420T174201Z
URL:https://public.beachwood.org/events/details/december-2019-women-s-connection-12-12-2019-8189
END:VEVENT

END:VCALENDAR
