BEGIN:VCALENDAR
VERSION:2.0
PRODID:-//ChamberMaster//Event Calendar 2.0//EN
METHOD:PUBLISH
X-PUBLISHED-TTL:P3D
REFRESH-INTERVAL:P3D
CALSCALE:GREGORIAN
BEGIN:VEVENT
DTSTART:20191204T163000Z
DTEND:20191204T180000Z
X-MICROSOFT-CDO-ALLDAYEVENT:FALSE
SUMMARY:December 2019 Western Reserve Safety Council Meeting
DESCRIPTION:Topic:  Stress Management\n\nSpeaker:  Bruce Hensley\, MD\, St. Vincent's Charity\n\n \n \n\n \n\nClick here to Register
X-ALT-DESC;FMTTYPE=text/html:<h1><strong>Topic:&nbsp\; Stress Management</strong></h1>\n\n<h2><strong><span style="font-family: arial\; font-size: 14px\;"><span style="font-size: 16px\;">Speaker:&nbsp\; Bruce Hensley\, MD\, St. Vincent&#39\;s Charity</span></span></strong></h2>\n\n<p>&nbsp\;</p>\n&nbsp\;\n\n<p -webkit-text-stroke-width:="" font-size:="" font-style:="" font-variant:="" font-weight:="" letter-spacing:="" line-height:="" margin-bottom:="" margin-left:="" margin-right:="" margin-top:="" orphans:="" padding-bottom:="" padding-left:="" padding-right:="" padding-top:="" style="background-color: transparent\; box-sizing: border-box\; color: rgb(0\, 0\, 0)\; font-family: " text-align:="" text-decoration:="" text-indent:="" text-transform:="" titillium="" white-space:="" word-spacing:="">&nbsp\;</p>\n\n<p><a href="https://web.westernreservesc.org/events/WRSCProgram%20%20Stress%20Management-6541/details"><em><strong><span style="font-size:14px\;">Click here to Register</span></strong></em></a></p>\n
LOCATION:Signature of Solon 39000 Signature Drive Solon\, OH 44139
UID:e.368.8161
SEQUENCE:3
DTSTAMP:20260420T174346Z
URL:https://public.beachwood.org/events/details/december-2019-western-reserve-safety-council-meeting-8161
END:VEVENT

END:VCALENDAR
