BEGIN:VCALENDAR
VERSION:2.0
PRODID:-//ChamberMaster//Event Calendar 2.0//EN
METHOD:PUBLISH
X-PUBLISHED-TTL:P3D
REFRESH-INTERVAL:P3D
CALSCALE:GREGORIAN
BEGIN:VEVENT
DTSTART:20191204T220000Z
DTEND:20191204T233000Z
X-MICROSOFT-CDO-ALLDAYEVENT:FALSE
SUMMARY:December 2019 Networking After Five
DESCRIPTION:Join the Chamber for this month's Networking After Five hosted by Chagrin Valley Beverage's Tasting Room.\n\n\n\nJoin us for an enjoyable evening of networking and welcoming this new Chamber member.\n\n\n\nEnjoy\n\n	Light Refreshments\n	Networking tips\n	Drawing for a gift certificate\n\nRemember to bring your business cards!
X-ALT-DESC;FMTTYPE=text/html:Join the Chamber for this month&#39\;s Networking After Five hosted by Chagrin Valley Beverage&#39\;s Tasting Room.<br />\n<br />\nJoin us for an enjoyable evening of networking and welcoming this new Chamber member.<br />\n<br />\nEnjoy\n<ul>\n	<li>Light Refreshments</li>\n	<li>Networking tips</li>\n	<li>Drawing for a gift certificate</li>\n</ul>\nRemember to bring your business cards!<br />\n&nbsp\;
LOCATION:Chagrin Valley Beverage Tasting Room 4620 Richmond Road Ste 290 Warrensville Hts\, OH 44128
UID:e.368.8105
SEQUENCE:3
DTSTAMP:20260420T173651Z
URL:https://public.beachwood.org/events/details/december-2019-networking-after-five-8105
END:VEVENT

END:VCALENDAR
