BEGIN:VCALENDAR
VERSION:2.0
PRODID:-//ChamberMaster//Event Calendar 2.0//EN
METHOD:PUBLISH
X-PUBLISHED-TTL:P3D
REFRESH-INTERVAL:P3D
CALSCALE:GREGORIAN
BEGIN:VEVENT
DTSTART:20181204T220000Z
DTEND:20181204T233000Z
X-MICROSOFT-CDO-ALLDAYEVENT:FALSE
SUMMARY:December 2018 Networking After Five
DESCRIPTION:Beachwood Chamber Networking After Five: Tuesday\, December 4th \n\nStart the month by joining us for our annual December Networking After Five event at The Cleveland Clinic Family Health Center.\n\n\n\nEnjoy ...\n\n\n	Light refreshments will be served.\n	Learn new networking tips and tricks\n	 Drop your business card for a chance to win a gift certificate
X-ALT-DESC;FMTTYPE=text/html:<p><span style="color: rgb(0\, 51\, 204)\;"><strong>Beachwood Chamber Networking After Five: Tuesday\, December 4th </strong></span></p>\n\n<p>Start the month by joining us for our annual December Networking After Five event<strong> </strong>at The Cleveland Clinic Family Health Center.<br />\n<br />\nEnjoy ...</p>\n\n<ul>\n	<li>Light refreshments will be served.</li>\n	<li>Learn new networking tips and tricks</li>\n	<li>&nbsp\;Drop your business card for a chance to win a gift certificate</li>\n</ul>\n
LOCATION:Cleveland Clinic Family Health Center 26900 Cedar Road Beachwood
UID:e.368.7979
SEQUENCE:3
DTSTAMP:20260420T123359Z
URL:https://public.beachwood.org/events/details/december-2018-networking-after-five-7979
END:VEVENT

END:VCALENDAR
