BEGIN:VCALENDAR
VERSION:2.0
PRODID:-//ChamberMaster//Event Calendar 2.0//EN
METHOD:PUBLISH
X-PUBLISHED-TTL:P3D
REFRESH-INTERVAL:P3D
CALSCALE:GREGORIAN
BEGIN:VEVENT
DTSTART:20171206T220000Z
DTEND:20171206T233000Z
X-MICROSOFT-CDO-ALLDAYEVENT:FALSE
SUMMARY:December 2017 Networking After Five
DESCRIPTION:Beachwood Chamber Networking After Five: Wednesday\, December 6\, 2017\n\nStart the month by joining us for our November Networking After Five event at Cleveland Clinic Beachwood Family Health & Surgery Center.\n\n\n\nEnjoy ...\n\n\n	Beer\, wine and light bites\n	Learn new networking tips and tricks\n	 Drop your business card for a chance to win a gift certificate\n	You won't want to miss your chance to win cash.  Every Beachwood Chamber member company name that has attended networking after five in the past year is placed in a hopper.  If your company name is pulled from the hopper and you are in attendance\, you win cash. If you were not there\, the current cash goes back into the pot and $25 more is added the next month!   It continues each month until there is a winner\, then we start again at $25.
X-ALT-DESC;FMTTYPE=text/html:<p><span style="color:#0033cc\;"><strong>Beachwood Chamber Networking After Five: Wednesday\, December 6\, 2017</strong></span></p>\n\n<p>Start the month by joining us for our November&nbsp\;Networking After Five event<strong> </strong>at<strong> Cleveland Clinic Beachwood Family Health &amp\; Surgery Center.</strong><br />\n<br />\nEnjoy ...</p>\n\n<ul>\n	<li>Beer\, wine and light bites</li>\n	<li>Learn new networking tips and tricks</li>\n	<li>&nbsp\;Drop your business card for a chance to win a gift certificate</li>\n	<li>You won&#39\;t want to miss your chance to win<em> cash</em>.&nbsp\; Every Beachwood Chamber member company name that has attended networking after five in the past year&nbsp\;is placed in a hopper.&nbsp\; If your company name is pulled from the hopper and you are in attendance\, you win cash. If you were not there\, the current cash goes back into the pot and $25 more is added the next month! &nbsp\; It continues each month until there is a winner\, then we start again at $25. &nbsp\;</li>\n</ul>\n
LOCATION:Beachwood Family Health & Surgery Center 26900 Cedar Road Beachwood\, OH 44122
UID:e.368.6441
SEQUENCE:3
DTSTAMP:20260421T042851Z
URL:https://public.beachwood.org/events/details/december-2017-networking-after-five-6441
END:VEVENT

END:VCALENDAR
