BEGIN:VCALENDAR
VERSION:2.0
PRODID:-//ChamberMaster//Event Calendar 2.0//EN
METHOD:PUBLISH
X-PUBLISHED-TTL:P3D
REFRESH-INTERVAL:P3D
CALSCALE:GREGORIAN
BEGIN:VEVENT
DTSTART:20161206T220000Z
DTEND:20161206T233000Z
X-MICROSOFT-CDO-ALLDAYEVENT:FALSE
SUMMARY:December 2016 Networking After Five
DESCRIPTION:Beachwood Chamber Networking After Five:  Tuesday\, December 6\, 2016\n\nStart the month by joining us for our Annual Networking After Five event at the Cleveland Clinic Family Heath & Surgery Center\, Beachwood.\n\n \n\nEnjoy ...\n\n\n	Light refreshments will be served.\n	Learn new networking tips and tricks\n	 Drop your business card for a chance to win a gift certificate\n	You won't want to miss your chance to win cash.  Every Beachwood Chamber member company name is placed in a hopper.  If your company name is pulled from the hopper and you are in attendance\, you win cash. If you were not there\, the current cash goes back into the pot and $25 more is added the next month!   It continues each month until there is a winner\, then we start again at $25.  The December drawing is now at $300\, but remember\, you MUST be there!
X-ALT-DESC;FMTTYPE=text/html:<p><span style="color:#0033cc\;"><strong>Beachwood Chamber Networking After Five:&nbsp\;<u> Tuesday\,</u> December 6\, 2016</strong></span></p>\n\n<p>Start the month by joining us for our Annual Networking After Five event<strong> </strong>at the <strong>Cleveland Clinic Family Heath &amp\; Surgery Center\, Beachwood.</strong><br />\n&nbsp\;<br />\nEnjoy ...</p>\n\n<ul>\n	<li>Light refreshments will be served.</li>\n	<li>Learn new networking tips and tricks</li>\n	<li>&nbsp\;Drop your business card for a chance to win a gift certificate</li>\n	<li>You won&#39\;t want to miss your chance to win<em> cash</em>.&nbsp\; Every Beachwood Chamber member company name is placed in a hopper.&nbsp\; If your company name is pulled from the hopper and you are in attendance\, you win cash. If you were not there\, the current cash goes back into the pot and $25 more is added the next month! &nbsp\; It continues each month until there is a winner\, then we start again at $25.&nbsp\; <em>The December drawing is now at $300\, but remember\, you MUST be there!</em></li>\n</ul>\n
LOCATION:Cleveland Clinic Family Health & Surgery Center\, Beachwood 26900 Cedar Road Beachwood
UID:e.368.6247
SEQUENCE:3
DTSTAMP:20260420T235907Z
URL:https://public.beachwood.org/events/details/december-2016-networking-after-five-6247
END:VEVENT

END:VCALENDAR
