BEGIN:VCALENDAR
VERSION:2.0
PRODID:-//ChamberMaster//Event Calendar 2.0//EN
METHOD:PUBLISH
X-PUBLISHED-TTL:P3D
REFRESH-INTERVAL:P3D
CALSCALE:GREGORIAN
BEGIN:VEVENT
DTSTART:20160924T160000Z
DTEND:20160925T000000Z
X-MICROSOFT-CDO-ALLDAYEVENT:FALSE
SUMMARY:Decades of Beauty
DESCRIPTION:DECADES of BEAUTY is an event celebrating decades of fashion\, make-up\, fragrance and all things beauty!  The event will feature Mini Beauty Studios\, Fashion Face-Off Competition\, and Fashion Show.  VIP tickets are available for the fashion show which will get attendees direct access to our celebrity guest\, cocktails and hors d' oeuvres\, a swag bag and premier seating for the show!  A donation from the event will be made to The Cleveland Clinic's Women's Health.
X-ALT-DESC;FMTTYPE=text/html:DECADES of BEAUTY is an event celebrating decades of fashion\, make-up\, fragrance and all things beauty! &nbsp\;The event will feature Mini Beauty Studios\, Fashion Face-Off Competition\, and Fashion Show.&nbsp\; VIP tickets are available for the fashion show which will get attendees direct access to our celebrity guest\, cocktails and hors d&rsquo\; oeuvres\, a swag bag and premier seating for the show!&nbsp\; A donation from the event will be made to The Cleveland Clinic&rsquo\;s Women&rsquo\;s Health.&nbsp\;
LOCATION:Beachwood Place center court
UID:e.368.6043
SEQUENCE:3
DTSTAMP:20260420T182221Z
URL:https://public.beachwood.org/events/details/decades-of-beauty-6043
END:VEVENT

END:VCALENDAR
