BEGIN:VCALENDAR
VERSION:2.0
PRODID:-//ChamberMaster//Event Calendar 2.0//EN
METHOD:PUBLISH
X-PUBLISHED-TTL:P3D
REFRESH-INTERVAL:P3D
CALSCALE:GREGORIAN
BEGIN:VEVENT
DTSTART:20140506T190000Z
DTEND:20140506T200000Z
X-MICROSOFT-CDO-ALLDAYEVENT:FALSE
SUMMARY:David Grossman's Literature in English Translation
DESCRIPTION:One of Israel's most acclaimed novelists\, David Grossman's work offers a rich treatment of some of Israel's most sensitive topics. Join Sonia Yungster for lively and moving conversation about To the End of the Land\, which depicts family members' emotional strains when a son is deployed into combat. Weaving between Grossman's reflections on his own experience of loss\, and Israel's national story\, our discussion will undercover the ways in which the personal and collective are intertwined in this powerful meditation on war\, friendship and love.\n\nThe first of 5  sessions. Please register at www.cuyahogalibrary.org or call 216-831-6868
X-ALT-DESC;FMTTYPE=text/html:<br />\nOne of Israel&rsquo\;s most acclaimed novelists\, David Grossman&rsquo\;s work offers a rich treatment of some of Israel&rsquo\;s most sensitive topics. Join Sonia Yungster for lively and moving conversation about To the End of the Land\, which depicts family members&rsquo\; emotional strains when a son is deployed into combat. Weaving between Grossman&rsquo\;s reflections on his own experience of loss\, and Israel&rsquo\;s national story\, our discussion will undercover the ways in which the personal and collective are intertwined in this powerful meditation on war\, friendship and love.<br />\nThe first of 5&nbsp\; sessions. Please register at www.cuyahogalibrary.org or call 216-831-6868
LOCATION:Beachwood Branch of Cuyahoga County Public Library 25501 Shaker Blvd Beachwood OH 44122
UID:e.368.1100
SEQUENCE:3
DTSTAMP:20260420T074511Z
URL:https://public.beachwood.org/events/details/david-grossman-s-literature-in-english-translation-05-06-2014-1100
END:VEVENT

END:VCALENDAR
