BEGIN:VCALENDAR
VERSION:2.0
PRODID:-//ChamberMaster//Event Calendar 2.0//EN
METHOD:PUBLISH
X-PUBLISHED-TTL:P3D
REFRESH-INTERVAL:P3D
CALSCALE:GREGORIAN
BEGIN:VEVENT
DTSTART:20140410T230000Z
DTEND:20140411T003000Z
X-MICROSOFT-CDO-ALLDAYEVENT:FALSE
SUMMARY:Dao of Being Jewish: Stories from China with Irene Shaland
DESCRIPTION:Join internationally published art and travel writer Irene Shaland as she takes us on a unique journey through six cities in China including Harbin\, Kaifeng and Shanghai and 2\,000 years history of Jewish life there. Learn the (Jewish) secrets of the Gobi Desert and the Silk Road and much more!
X-ALT-DESC;FMTTYPE=text/html:Join internationally published art and travel writer Irene Shaland as she takes us on a unique journey through six cities in China including Harbin\, Kaifeng and Shanghai and 2\,000 years history of Jewish life there. Learn the (Jewish) secrets of the Gobi Desert and the Silk Road and much more!
LOCATION:Beachwood Branch of Cuyahoga County Public Library 25501 Shaker Blvd. Beachwood Ohio 44122
UID:e.368.1089
SEQUENCE:3
DTSTAMP:20260420T090737Z
URL:https://public.beachwood.org/events/details/dao-of-being-jewish-stories-from-china-with-irene-shaland-04-10-2014-1089
END:VEVENT

END:VCALENDAR
