BEGIN:VCALENDAR
VERSION:2.0
PRODID:-//ChamberMaster//Event Calendar 2.0//EN
METHOD:PUBLISH
X-PUBLISHED-TTL:P3D
REFRESH-INTERVAL:P3D
CALSCALE:GREGORIAN
BEGIN:VEVENT
DTSTART:20170617T180000Z
DTEND:20170617T190000Z
X-MICROSOFT-CDO-ALLDAYEVENT:FALSE
SUMMARY:CycleBar Beachwood - Alzheimer's Fundraising Ride
DESCRIPTION:Grab your gear and go! As part of Alzheimer's & Brain Awareness Month in June\, team up with CycleBar Beachwood to raise funds to support local Alzheimer's Association programs\, services and education supporting individuals with Alzheimer's disease and their caregivers. Enjoy a fabulous workout and help raise Alzheimer's awareness and funds to fight the disease.\n\n\n\nThe event is also part of The Longest Day\, where participants select any activity they love - or an activity loved by those affected - to help end Alzheimer's.  \n\n\n\nLearn more about other activities going on through June\, CLICK HERE
X-ALT-DESC;FMTTYPE=text/html:<span style="font-size:14px\;"><span style="font-family: arial\;"><span style="color:#000000\;">Grab your gear and go! As part of Alzheimer&#39\;s &amp\; Brain Awareness Month in June\, team up with CycleBar Beachwood to raise funds to support local Alzheimer&#39\;s Association programs\, services and education supporting individuals with Alzheimer&#39\;s disease and their caregivers. Enjoy a fabulous workout and help raise Alzheimer&#39\;s awareness and funds to fight the disease.<br />\n<br />\nThe event is also part of The Longest Day\, where participants select any activity they love - or an activity loved by those affected - to help end Alzheimer&#39\;s.&nbsp\;<span style="background-color: rgb(255\, 255\, 255)\;">&nbsp\;<br />\n<br />\nLearn more about other activities going on through June\, <a href="http://www.alz.org/news_and_events_upcoming_events.asp">CLICK HERE</a> </span></span></span></span><br />\n&nbsp\;
LOCATION:CycleBar Beachwood\, 3355 Richmond Rd Suite 101a Beachwood\, OH\, 44122.
UID:e.368.6326
SEQUENCE:3
DTSTAMP:20260421T064859Z
URL:https://public.beachwood.org/events/details/cyclebar-beachwood-alzheimer-s-fundraising-ride-6326
END:VEVENT

END:VCALENDAR
