BEGIN:VCALENDAR
VERSION:2.0
PRODID:-//ChamberMaster//Event Calendar 2.0//EN
METHOD:PUBLISH
X-PUBLISHED-TTL:P3D
REFRESH-INTERVAL:P3D
CALSCALE:GREGORIAN
BEGIN:VEVENT
DTSTART:20090128T010000Z
DTEND:20090127T193000Z
X-MICROSOFT-CDO-ALLDAYEVENT:FALSE
SUMMARY:CSU - Global Supply Chain
DESCRIPTION:GLOBAL SUPPLY CHAIN MANAGEMENT Tuesday\, January 27\, 20098:00 AM - 2:30 PMat CSU Glickman-Miller Hall1717 Euclid Avenue\, Cleveland This program provides tools and up-to-date information to assist you n achieving cost savings\, obtaining greater value\, and improving services. Attendees will gain insight into leverage sourcing for immediate and long-term bottom-line impact. This evnt will provide you with the tactics\, strategies\, and skills you need to compete and prosper in the global market place. Import Areas Covered:Savings costs on goods and servicesStrategic sourcing collaborationLogisticsGreening the Supply ChainFacilitators Include:Institute for Supply Chain Management and Information AssuranceLubrizolOrbisPanalpinaPort of ClevelandSwagelockProgram Fees:$225 per session\; CSU Alumni pay $175Fees include: Breakfast\, Lunch\, and parkingMention that you heard about this from ITAC and pay $125For more information and to register:Visit: http://www.csuohio.edu/business/global/reachCall 216-687-4750Email: m.herlevi@csuohio.eduRegister at: http://csuohio.edu/business/global/reach/reach_reg.html
X-ALT-DESC;FMTTYPE=text/html:<div align="center"><font size="3"><strong>GLOBAL SUPPLY CHAIN MANAGEMENT</strong></font></div><div>&nbsp\;</div><div align="center">Tuesday\, January 27\, 2009</div><div align="center">8:00 AM - 2:30 PM</div><div align="center">at CSU Glickman-Miller Hall</div><div align="center">1717 Euclid Avenue\, Cleveland</div><div align="center">&nbsp\;</div><div>This program provides tools and up-to-date information to assist you n achieving cost savings\, obtaining greater value\, and improving services. Attendees will gain insight into leverage sourcing for immediate and long-term bottom-line impact. This evnt will provide you with the tactics\, strategies\, and skills you need to compete and prosper in the global market place.</div><div>&nbsp\;</div><div><strong>Import Areas Covered:</strong></div><ul><li>Savings costs on goods and services</li><li>Strategic sourcing collaboration</li><li>Logistics</li><li>Greening the Supply Chain</li></ul><div><strong>Facilitators Include:</strong></div><ul><li>Institute for Supply Chain Management and Information Assurance</li><li>Lubrizol</li><li>Orbis</li><li>Panalpina</li><li>Port of Cleveland</li><li>Swagelock</li></ul><div><strong>Program Fees:</strong></div><ul><li>$225 per session\; CSU Alumni pay $175</li><li>Fees include: Breakfast\, Lunch\, and parking</li><li><em>Mention that you heard about this from ITAC and pay $125</em></li></ul><div>For more information and to register:</div><ul><li>Visit: <a href="http://www.csuohio.edu/business/global/reach">http://www.csuohio.edu/business/global/reach</a></li><li>Call 216-687-4750</li><li>Email:&nbsp\;<a href="mailto:m.herlevi@csuohio.edu">m.herlevi@csuohio.edu</a></li><li>Register at: <a href="http://csuohio.edu/business/global/reach/reach_reg.html">http://csuohio.edu/business/global/reach/reach_reg.html</a>&nbsp\;</li></ul>
LOCATION:CSU Glickman-Miller Hall1717 Euclid AvenueCleveland
UID:e.368.132
SEQUENCE:3
DTSTAMP:20260423T223741Z
URL:https://public.beachwood.org/events/details/csu-global-supply-chain-01-27-2009-132
END:VEVENT

END:VCALENDAR
