BEGIN:VCALENDAR
VERSION:2.0
PRODID:-//ChamberMaster//Event Calendar 2.0//EN
METHOD:PUBLISH
X-PUBLISHED-TTL:P3D
REFRESH-INTERVAL:P3D
CALSCALE:GREGORIAN
BEGIN:VEVENT
DTSTART:20141214T190000Z
DTEND:20141214T200000Z
X-MICROSOFT-CDO-ALLDAYEVENT:FALSE
SUMMARY:Crackers in the Street: Holiday Traditions of the Western Reserve
DESCRIPTION:Learn about celebrations and partying in the holiday season in the early years of the Western Reserve. Customs came with the settlers\, but many of them we would not recognize today.
X-ALT-DESC;FMTTYPE=text/html:<div style="margin-left: 20px\;">&nbsp\;Learn about celebrations and partying in the holiday season in the early years of the Western Reserve. Customs came with the settlers\, but many of them we would not recognize today.</div>\n
LOCATION:Beachwood Branch of Cuyahoga County Public Library 25501 Shaker Blvd Beachwood OH 44122
UID:e.368.1255
SEQUENCE:3
DTSTAMP:20260419T213815Z
URL:https://public.beachwood.org/events/details/crackers-in-the-street-holiday-traditions-of-the-western-reserve-12-14-2014-1255
END:VEVENT

END:VCALENDAR
