BEGIN:VCALENDAR
VERSION:2.0
PRODID:-//ChamberMaster//Event Calendar 2.0//EN
METHOD:PUBLISH
X-PUBLISHED-TTL:P3D
REFRESH-INTERVAL:P3D
CALSCALE:GREGORIAN
BEGIN:VEVENT
DTSTART:20140911T230000Z
DTEND:20140912T000000Z
X-MICROSOFT-CDO-ALLDAYEVENT:FALSE
SUMMARY:CPH Script Club: The Little Foxes
DESCRIPTION:The Little Foxes by Lillian Hellman\n\nWhen the Hubbard siblings have the chance to strike it rich\, not even the ties of blood or marriage are safe from their cold calculations and elaborate schemes. CPH's 99th season begins with Lillian Hellman's delicious drama of ambition and greed in the Deep South that warns us to keep our friends close   and our relatives closer.\n\nCleveland Play House's Script Club is everything you love about a book club - but with a play in the spotlight! First\, check out a copy of the script from one of our partner libraries and read it at home. Then join CPH Artistic Staff at the library for a free-flowing exploration of the story and characters\, with inside insight on how CPH artists take a play from page to stage!
X-ALT-DESC;FMTTYPE=text/html:<p>The Little Foxes by Lillian Hellman<br />\nWhen the Hubbard siblings have the chance to strike it rich\, not even the ties of blood or marriage are safe from their cold calculations and elaborate schemes. CPH&rsquo\;s 99th season begins with Lillian Hellman&rsquo\;s delicious drama of ambition and greed in the Deep South that warns us to keep our friends close &ndash\; and our relatives closer.</p>\n\n<p>Cleveland Play House&rsquo\;s Script Club is everything you love about a book club - but with a play in the spotlight! First\, check out a copy of the script from one of our partner libraries and read it at home. Then join CPH Artistic Staff at the library for a free-flowing exploration of the story and characters\, with inside insight on how CPH artists take a play from page to stage!<br />\n&nbsp\;</p>\n
LOCATION:Beachwood Branch of Cuyahoga County Public Library 25501 Shaker Blvd Beachwood OH 44122
UID:e.368.1150
SEQUENCE:3
DTSTAMP:20260420T014239Z
URL:https://public.beachwood.org/events/details/cph-script-club-the-little-foxes-09-11-2014-1150
END:VEVENT

END:VCALENDAR
