BEGIN:VCALENDAR
VERSION:2.0
PRODID:-//ChamberMaster//Event Calendar 2.0//EN
METHOD:PUBLISH
X-PUBLISHED-TTL:P3D
REFRESH-INTERVAL:P3D
CALSCALE:GREGORIAN
BEGIN:VEVENT
DTSTART:20140304T220000Z
DTEND:20140305T000000Z
X-MICROSOFT-CDO-ALLDAYEVENT:FALSE
SUMMARY:Courtyard Marriott Grand Re-Opening
DESCRIPTION:Its a New Year.  It's a New Stay!\n\nOur renovation is complete and we are so excited to share our beautiful and inviting new spaced with you!\n\n\n\nPlease join us for some Mardi Gras fun!\n\n\n\nEnjoy tasty appetizers\, New Orleans King Cakes\, specialty drinks\, networking\, prizes and more!
X-ALT-DESC;FMTTYPE=text/html:Its a New Year.&nbsp\; It&#39\;s a New Stay!<br />\nOur renovation is complete and we are so excited to share our beautiful and inviting new spaced with you!<br />\n<br />\nPlease join us for some Mardi Gras fun!<br />\n<br />\nEnjoy tasty appetizers\, New Orleans King Cakes\, specialty drinks\, networking\, prizes and more!<br />\n&nbsp\;
LOCATION:Courtyard Marriott 3695 Orange Place Beachwood\, OH 44122
UID:e.368.1080
SEQUENCE:3
DTSTAMP:20260420T115436Z
URL:https://public.beachwood.org/events/details/courtyard-marriott-grand-re-opening-03-04-2014-1080
END:VEVENT

END:VCALENDAR
