BEGIN:VCALENDAR
VERSION:2.0
PRODID:-//ChamberMaster//Event Calendar 2.0//EN
METHOD:PUBLISH
X-PUBLISHED-TTL:P3D
REFRESH-INTERVAL:P3D
CALSCALE:GREGORIAN
BEGIN:VEVENT
DTSTART:20090528T130000Z
DTEND:20090528T143000Z
X-MICROSOFT-CDO-ALLDAYEVENT:FALSE
SUMMARY:Contracting with the Federal Government
DESCRIPTION:Representative Marcia L. Fudge invites small businesses to a seminar on Contracting with the Federal Government(Small Business Seminar -- Session II) On Thursday\, May 28\, 20099:00 AM - 10:30 AM at the Consortium of African American Organizations (CAAO)4614 Prospect Avenue\, Suite 300\, in Cleveland The seminar will feature information on:Federal contractsState contractsLocal contractsLocal businesses that have secured federal contractsHow to access capital For more information or to RSVP\, contact Sharon Cole of Stephen Caviness at 216-522-4900.
X-ALT-DESC;FMTTYPE=text/html:<div>Representative Marcia L. Fudge invites small businesses to a seminar on</div><div>&nbsp\;</div><div><strong><font size="2">Contracting with the Federal Government</font></strong></div><div>(Small Business Seminar -- Session II)</div><div>&nbsp\;</div><div>On Thursday\, May 28\, 2009</div><div>9:00 AM - 10:30 AM</div><div>&nbsp\;</div><div>at the Consortium of African American Organizations (CAAO)</div><div>4614 Prospect Avenue\, Suite 300\, in Cleveland</div><div>&nbsp\;</div><div>The seminar will feature information on:</div><ul><li>Federal contracts</li><li>State contracts</li><li>Local contracts</li><li>Local businesses that have secured federal contracts</li><li>How to access capital</li></ul><div>&nbsp\;</div><div>For more information or to RSVP\, contact Sharon Cole of Stephen Caviness at 216-522-4900.</div>
LOCATION:Consortium of African American Organizations4614 Prospect Ave\, #300Cleveland\, OH 44103
UID:e.368.211
SEQUENCE:3
DTSTAMP:20260423T182736Z
URL:https://public.beachwood.org/events/details/contracting-with-the-federal-government-05-28-2009-211
END:VEVENT

END:VCALENDAR
