BEGIN:VCALENDAR
VERSION:2.0
PRODID:-//ChamberMaster//Event Calendar 2.0//EN
METHOD:PUBLISH
X-PUBLISHED-TTL:P3D
REFRESH-INTERVAL:P3D
CALSCALE:GREGORIAN
BEGIN:VEVENT
DTSTART:20140407T223000Z
DTEND:20140408T000000Z
X-MICROSOFT-CDO-ALLDAYEVENT:FALSE
SUMMARY:Communities in Conversation
DESCRIPTION:A five-week series of interfaith study and discussion that will include building on both the intersections and divergences of people holding a range of religious and ideological views. Through conversation led by Communities in Conversation we will learn from each other\, be enhanced by the richness of our diversity and strengthen our sense of community and our ability to live together.
X-ALT-DESC;FMTTYPE=text/html:A&nbsp\;five-week series of interfaith study and discussion that will include building on both the intersections and divergences of people holding a range of religious and ideological views. Through conversation led by Communities in Conversation we will learn from each other\, be enhanced by the richness of our diversity and strengthen our sense of community and our ability to live together.
LOCATION:Beachwood Branch of Cuyahoga County Public Library 25501 Shaker Blvd Beachwood OH 44122
UID:e.368.1088
SEQUENCE:3
DTSTAMP:20260420T090331Z
URL:https://public.beachwood.org/events/details/communities-in-conversation-04-07-2014-1088
END:VEVENT

END:VCALENDAR
