BEGIN:VCALENDAR
VERSION:2.0
PRODID:-//ChamberMaster//Event Calendar 2.0//EN
METHOD:PUBLISH
X-PUBLISHED-TTL:P3D
REFRESH-INTERVAL:P3D
CALSCALE:GREGORIAN
BEGIN:VEVENT
DTSTART:20140822T220000Z
DTEND:20140822T230000Z
X-MICROSOFT-CDO-ALLDAYEVENT:FALSE
SUMMARY:Come Grow with Me Shabbat at Suburban Temple-Kol Ami
DESCRIPTION:Please join us for a wonderful and joyous Shabbat service and dinner geared towards families with newborns through 5 year olds!\n\n\n\n*This program is FREE thanks to a generous grant from the Jewish Federation and the Jewish Education Center of Cleveland.
X-ALT-DESC;FMTTYPE=text/html:Please join us for a wonderful and joyous Shabbat service and dinner geared towards families with newborns through 5 year olds!<br />\n<br />\n*This program is FREE thanks to a generous grant from the Jewish Federation and the Jewish Education Center of Cleveland.
LOCATION:Suburban Temple-Kol Ami 22401 Chagrin Blvd. Beachwood\, OH 44122
UID:e.368.1168
SEQUENCE:3
DTSTAMP:20260420T030820Z
URL:https://public.beachwood.org/events/details/come-grow-with-me-shabbat-at-suburban-temple-kol-ami-08-22-2014-1168
END:VEVENT

END:VCALENDAR
