BEGIN:VCALENDAR
VERSION:2.0
PRODID:-//ChamberMaster//Event Calendar 2.0//EN
METHOD:PUBLISH
X-PUBLISHED-TTL:P3D
REFRESH-INTERVAL:P3D
CALSCALE:GREGORIAN
BEGIN:VEVENT
DTSTART;VALUE=DATE:20230427
DTEND;VALUE=DATE:20230428
TRANSP:TRANSPARENT
X-MICROSOFT-CDO-ALLDAYEVENT:TRUE
SUMMARY:COhatch Beachwood: Small Business Mixer
DESCRIPTION:Held in the Hive event space at COhatch Beachwood. This FREE event is a great way to meet other local entrepreneurs like yourself and share tips & tricks to help each other succeed! Our goal is to create a space for yourself and others from diverse backgrounds to engage\, network\, share ideas and connect. Even if you do not own your own business or have a "small" business you are more than welcome to come join us to network!
X-ALT-DESC;FMTTYPE=text/html:<span style="color:rgb(34\, 34\, 34)\; font-family:arial\,helvetica\,sans-serif\; font-size:small">Held in the Hive event space at COhatch Beachwood. This FREE event is a great way to meet other local entrepreneurs like yourself and share tips &amp\; tricks to help each other succeed! Our goal is to create a space for yourself and others from diverse backgrounds to engage\, network\, share ideas and connect. Even if you do not own your own business or have a &quot\;small&quot\; business you are more than welcome to come join us to network!</span>
LOCATION:COhatch Beachwood 26300 Cedar Rd Ste 1105\, Beachwood OH
UID:e.368.8643
SEQUENCE:3
DTSTAMP:20260424T124855Z
URL:https://public.beachwood.org/events/details/cohatch-beachwood-small-business-mixer-8643
END:VEVENT

END:VCALENDAR
