BEGIN:VCALENDAR
VERSION:2.0
PRODID:-//ChamberMaster//Event Calendar 2.0//EN
METHOD:PUBLISH
X-PUBLISHED-TTL:P3D
REFRESH-INTERVAL:P3D
CALSCALE:GREGORIAN
BEGIN:VEVENT
DTSTART:20230608T130000Z
DTEND:20230608T140000Z
X-MICROSOFT-CDO-ALLDAYEVENT:FALSE
SUMMARY:Coffee hour with Women of the Beachwood Chamber
DESCRIPTION:Join us for an inspiring Networking Event with author Dr. Tamsin Astor.\n\n\n\nWe are delighted to invite you to a morning hour of networking and inspiration at our upcoming coffee hour hosted by the Women of the Beachwood Chamber.\n\nWe are thrilled to announce that our esteemed guest speaker will be none other than renowned author Dr. Tamsin Astor.\n\nDr. Astor is an accomplished writer who has captivated readers with her insightful works on personal development\, empowerment and leadership. She has inspired countless individuals to overcome challenges\, embrace their strengths\, and achieve their goals. We are privileged to have her share her expertise and experiences with us.\n\nDuring this event you will have the opportunity to:\n\n* Connect with fellow professionals\, entrepreneurs\, and leaders in the community\n\n* Gain valuable insights from Dr Astor journey and learn from her success's\n\n* Expand your network and forge meaningful connections that can support your personal\n\n  and professional growth.\n\n* Enjoy a delightful morning filled with engaging discussions\, inspiration and camaraderie.\n\nDon't miss the opportunity to be part of a morning event that promises to empower and \n\ninspire.  We look forward to welcoming you to the Women of the Beachwood Chamber event \n\nand sharing an unforgettable experience together.
X-ALT-DESC;FMTTYPE=text/html:<br />\n<strong>Join us for an inspiring Networking Event with author Dr. Tamsin Astor.</strong><br />\n<br />\nWe are delighted to invite you to a morning hour of networking and inspiration at our upcoming coffee hour hosted by the<strong> Women of the Beachwood Chamber.</strong><br />\nWe are thrilled to announce that our esteemed guest speaker will be none other than renowned author Dr. Tamsin Astor.<br />\nDr. Astor is an accomplished writer who has captivated readers with her insightful works on personal development\, empowerment and leadership. She has inspired countless individuals to overcome challenges\, embrace their strengths\, and achieve their goals. We are privileged to have her share her expertise and experiences with us.<br />\nDuring this event you will have the opportunity to:<br />\n* Connect with fellow professionals\, entrepreneurs\, and leaders in the community<br />\n* Gain valuable insights from Dr Astor journey and learn from her success&#39\;s<br />\n* Expand your network and forge meaningful connections that can support your personal<br />\n&nbsp\; and professional growth.<br />\n* Enjoy a delightful morning filled with engaging discussions\, inspiration and camaraderie.<br />\nDon&#39\;t miss the opportunity to be part of a morning event that promises to empower and&nbsp\;<br />\ninspire. &nbsp\;We look forward to welcoming you to the <strong>Women of the Beachwood Chamber</strong> event&nbsp\;<br />\nand sharing an unforgettable experience together.
LOCATION:Beachwood Public Library 25501 Shaker Blvd Beachwood\, OH. 44122 216-831-6868
UID:e.368.8646
SEQUENCE:3
DTSTAMP:20260424T153756Z
URL:https://public.beachwood.org/events/details/coffee-hour-with-women-of-the-beachwood-chamber-8646
END:VEVENT

END:VCALENDAR
