BEGIN:VCALENDAR
VERSION:2.0
PRODID:-//ChamberMaster//Event Calendar 2.0//EN
METHOD:PUBLISH
X-PUBLISHED-TTL:P3D
REFRESH-INTERVAL:P3D
CALSCALE:GREGORIAN
BEGIN:VEVENT
DTSTART:20180301T210000Z
DTEND:20180330T230000Z
X-MICROSOFT-CDO-ALLDAYEVENT:FALSE
SUMMARY:Cocktail Time at The Capital Grille
DESCRIPTION:Cocktail Time Features Menu\n\nMonday - Friday from 4-7 PM\n\nFeaturing Our Butcher's Boards\n\n\n\nLocal Bear ] 6\n\nBoutique Wines ] 8\n\nBottled Cocktails ] 10\n\n\n\nView our wine expert's favorite cocktail time pairings by downloading The Capital Grille Concierge app now.
X-ALT-DESC;FMTTYPE=text/html:<p style="text-align: center\;"><span style="font-size:14px\;">Cocktail Time Features Menu<br />\nMonday - Friday from 4-7 PM</span></p>\n\n<p style="text-align: center\;"><span style="font-size:14px\;">Featuring Our Butcher&#39\;s Boards<br />\n<br />\nLocal Bear ] 6<br />\nBoutique Wines ] 8<br />\nBottled Cocktails ] 10<br />\n<br />\nView our wine expert&#39\;s favorite cocktail time pairings by downloading The Capital Grille Concierge app now.&nbsp\;</span><br />\n&nbsp\;</p>\n
LOCATION:The Capital Grille 25389 Cedar Road Lyndhurst\, OH 44124 Legacy Village
UID:e.368.6490
SEQUENCE:3
DTSTAMP:20260421T003346Z
URL:https://public.beachwood.org/events/details/cocktail-time-at-the-capital-grille-6490
END:VEVENT

END:VCALENDAR
