BEGIN:VCALENDAR
VERSION:2.0
PRODID:-//ChamberMaster//Event Calendar 2.0//EN
METHOD:PUBLISH
X-PUBLISHED-TTL:P3D
REFRESH-INTERVAL:P3D
CALSCALE:GREGORIAN
BEGIN:VEVENT
DTSTART:20231020T220000Z
DTEND:20231021T000000Z
X-MICROSOFT-CDO-ALLDAYEVENT:FALSE
SUMMARY:Cleveland Primecare Medspa...Trick or Treat Yourself
DESCRIPTION:Trick or Treat Yourself\n\n\n\nPlease join us at Cleveland Primecare Medspa for a Halloween treat !!\n\nFree Entry\n\nOne night only deals\n\nRaffle & Prizes\n\nGrand Prize at 7:45pm\n\nCocktails and Lite Bites
X-ALT-DESC;FMTTYPE=text/html:<strong>Trick or Treat Yourself<br />\n<br />\nPlease join us at Cleveland Primecare Medspa for a Halloween treat !!<br />\nFree Entry<br />\nOne night only deals<br />\nRaffle &amp\; Prizes<br />\nGrand Prize at 7:45pm<br />\nCocktails and Lite Bites</strong><br />\n&nbsp\;
LOCATION:Cleveland Primecare Medspa 25200 Chagrin Blvd Beachwood Ohio Phone: (216) 329-3810 www.clevelandprimecaremedspa.com
UID:e.368.8707
SEQUENCE:3
DTSTAMP:20260421T122752Z
URL:https://public.beachwood.org/events/details/cleveland-primecare-medspa-trick-or-treat-yourself-8707
END:VEVENT

END:VCALENDAR
