BEGIN:VCALENDAR
VERSION:2.0
PRODID:-//ChamberMaster//Event Calendar 2.0//EN
METHOD:PUBLISH
X-PUBLISHED-TTL:P3D
REFRESH-INTERVAL:P3D
CALSCALE:GREGORIAN
BEGIN:VEVENT
DTSTART:20150203T181500Z
DTEND:20150203T201500Z
X-MICROSOFT-CDO-ALLDAYEVENT:FALSE
SUMMARY:Cleveland Orchestra Music Study Group
DESCRIPTION:With Dr Rose Breckenridge. Explore the Orchestra's "concert of the week" through informal lectures and listening. Pick up a brochure at the branch. To register (fee required) call the Orchestra: 216-231-7355
X-ALT-DESC;FMTTYPE=text/html:With Dr Rose Breckenridge. Explore the Orchestra&#39\;s &quot\;concert of the week&quot\; through informal lectures and listening. Pick up a brochure at the branch. To register (fee required) call the Orchestra: 216-231-7355
LOCATION:Beachwood Branch of Cuyahoga County Public Library 25501 Shaker Blvd Beachwood OH 44122
UID:e.368.1263
SEQUENCE:3
DTSTAMP:20260419T191230Z
URL:https://public.beachwood.org/events/details/cleveland-orchestra-music-study-group-02-03-2015-1263
END:VEVENT

END:VCALENDAR
