BEGIN:VCALENDAR
VERSION:2.0
PRODID:-//ChamberMaster//Event Calendar 2.0//EN
METHOD:PUBLISH
X-PUBLISHED-TTL:P3D
REFRESH-INTERVAL:P3D
CALSCALE:GREGORIAN
BEGIN:VEVENT
DTSTART:20170503T220000Z
DTEND:20170504T010000Z
X-MICROSOFT-CDO-ALLDAYEVENT:FALSE
SUMMARY:Cleveland Magazine Silver Spoon Awards Party
DESCRIPTION:The 23rd annual Cleveland Magazine Silver Spoon Awards Party\, to benefit the Arthritis Foundation\, is a strolling food and wine tasting event and one of Cleveland's finest social and culinary evenings. Guests will sample delicious signature dishes from more than 40 of Northeast Ohio's best restaurants and several international wineries. All participating restaurants are 2017 Cleveland Magazine Silver Spoon Award winners and finalists. The event also includes an exclusive VIP Lounge\, a fabulous silent auction and exciting raffles. Tickets include all food and wine tastings\, complimentary valet and a year subscription to Cleveland Magazine.\n\n\n\nTickets are on sale now at Clevelandmagazine.com/silverspoonawards\n\n\n\nSponsorship opportunities are still available. Contact kburnside@arthritis.org or 216-285-2822 for more information.
X-ALT-DESC;FMTTYPE=text/html:<span style="font-size:12pt"><span style="font-family:century gothic\,sans-serif"><strong>The 23rd annual <em>Cleveland Magazine</em> Silver Spoon Awards Party</strong></span></span><span style="font-size:12pt"><span style="font-family:century gothic\,sans-serif">\, to benefit the Arthritis Foundation\, is a strolling food and wine tasting event and one of Cleveland&rsquo\;s finest social and culinary evenings. Guests will sample delicious signature dishes from more than 40 of Northeast Ohio&rsquo\;s best restaurants and several international wineries. All participating restaurants are <strong>2017 <em>Cleveland Magazine</em> Silver Spoon Award winners and finalists.</strong> The event also includes an exclusive VIP Lounge\, a fabulous silent auction and exciting raffles. Tickets include all food and wine tastings\, complimentary valet and a year subscription to Cleveland Magazine.<br />\n<br />\n<strong>Tickets are on sale now at Clevelandmagazine.com/silverspoonawards</strong><br />\n<br />\n<strong>Sponsorship opportunities are still available.</strong> Contact <a href="mailto:kburnside@arthritis.org">kburnside@arthritis.org</a> or 216-285-2822 for more information. </span></span><br />\n&nbsp\;
LOCATION:Crawford Auto Aviation Museum at the Cleveland History Center 10825 East Blvd. Cleveland\, OH 44106
UID:e.368.6289
SEQUENCE:3
DTSTAMP:20260421T053225Z
URL:https://public.beachwood.org/events/details/cleveland-magazine-silver-spoon-awards-party-6289
END:VEVENT

END:VCALENDAR
