BEGIN:VCALENDAR
VERSION:2.0
PRODID:-//ChamberMaster//Event Calendar 2.0//EN
METHOD:PUBLISH
X-PUBLISHED-TTL:P3D
REFRESH-INTERVAL:P3D
CALSCALE:GREGORIAN
BEGIN:VEVENT
DTSTART:20190515T220000Z
DTEND:20190516T010000Z
X-MICROSOFT-CDO-ALLDAYEVENT:FALSE
SUMMARY:Cleveland Magazine Silver Spoon Awards Party 2019
DESCRIPTION:The 25th Anniversary Cleveland Magazine Silver Spoon Awards Party\, to benefit the Arthritis Foundation\, is a strolling food and wine tasting event and one of Cleveland's finest social and culinary evenings. Guests will sample delicious signature dishes from nearly 50 of Northeast Ohio's best restaurants and several international wineries. All participating restaurants are 2019 Cleveland Magazine Silver Spoon Award winners and finalists. The event also includes an exclusive VIP Lounge\, a highly-anticipated silent auction and exciting raffles. Complimentary valet is offered for all guests and tickets include a year subscription to Cleveland Magazine.\n\n\n\nEvent proceeds fund critical arthritis research and support local services for the 1.3 million Northeastern Ohioans with arthritis and related diseases.\n\nHow: Purchase tickets at clevelandmagazine.com/silverspoon Group ticket and sponsorship packages are available now.\n\n\n\nPurchase tickets at clevelandmagazine.com/silverspoon Group ticket and sponsorship packages are available now.\n\n\n\nContact: Allison Harris\, Community Development Manager\n\nallisonh@arthritis.org 216-352-6152
X-ALT-DESC;FMTTYPE=text/html:The 25th Anniversary Cleveland Magazine Silver Spoon Awards Party\, to benefit the Arthritis Foundation\, is a strolling food and wine tasting event and one of Cleveland&rsquo\;s finest social and culinary evenings. Guests will sample delicious signature dishes from nearly 50 of Northeast Ohio&rsquo\;s best restaurants and several international wineries. All participating restaurants are 2019 Cleveland Magazine Silver Spoon Award winners and finalists. The event also includes an exclusive VIP Lounge\, a highly-anticipated silent auction and exciting raffles. Complimentary valet is offered for all guests and tickets include a year subscription to Cleveland Magazine.<br />\n<br />\nEvent proceeds fund critical arthritis research and support local services for the 1.3 million Northeastern Ohioans with arthritis and related diseases.<br />\nHow: Purchase tickets at clevelandmagazine.com/silverspoon Group ticket and sponsorship packages are available now.<br />\n<br />\nPurchase tickets at clevelandmagazine.com/silverspoon Group ticket and sponsorship packages are available now.<br />\n<br />\nContact: Allison Harris\, Community Development Manager<br />\nallisonh@arthritis.org 216-352-6152
LOCATION:Hilton Cleveland Downtown 100 Lakeside Ave E\, Cleveland\, OH 44114
UID:e.368.8044
SEQUENCE:3
DTSTAMP:20260420T083418Z
URL:https://public.beachwood.org/events/details/cleveland-magazine-silver-spoon-awards-party-2019-8044
END:VEVENT

END:VCALENDAR
