BEGIN:VCALENDAR
VERSION:2.0
PRODID:-//ChamberMaster//Event Calendar 2.0//EN
METHOD:PUBLISH
X-PUBLISHED-TTL:P3D
REFRESH-INTERVAL:P3D
CALSCALE:GREGORIAN
BEGIN:VEVENT
DTSTART:20171210T140000Z
DTEND:20171210T140000Z
X-MICROSOFT-CDO-ALLDAYEVENT:FALSE
SUMMARY:Cleveland Jingle Bell Run
DESCRIPTION:Join Us!\n\nSunday\, December 10\, 2017\n\n\n\n6th annual\n\nCleveland Jingle Bell Run\n\nLegacy Village   Lyndhurst\, OH\n\n5k Run/Walk and 1-mile Family Fun Run step off at 9:00 a.m.\n\nFestivities begin at 8:00AM including a race day expo\, pet and participant costume contests and plenty of holiday fun for the whole family!
X-ALT-DESC;FMTTYPE=text/html:<p><span style="font-size:14px"><span style="font-family:arial\,helvetica\,sans-serif"><span style="color:#000000"><strong>Join Us!</strong></span><br />\n<span style="color:#008000"><span style="font-size:20px"><strong>Sunday\, December 10\, 2017</strong></span></span><br />\n<br />\n<span style="color:#000000"><strong>6<sup>th</sup> annual</strong></span><br />\n<span style="font-size:20px"><strong><span style="color:rgb(255\, 0\, 0)">Cleveland Jingle Bell Run</span></strong></span><br />\n<span style="color:#000000"><strong>Legacy Village &ndash\; Lyndhurst\, OH</strong></span><br />\n<span style="color:black"><strong>5k Run/Walk and 1-mile Family Fun Run step off at 9:00 a.m</strong>.</span></span></span><br />\n<span style="font-size:14px"><span style="font-family:arial\,helvetica\,sans-serif"><em><span style="color:black">Festivities begin at 8:00AM including a race day expo\, pet and participant costume contests and plenty of holiday fun for the whole family!</span></em></span></span></p>\n
LOCATION:Legacy Village - Lyndhurst\, Ohio
UID:e.368.6444
SEQUENCE:3
DTSTAMP:20260421T042940Z
URL:https://public.beachwood.org/events/details/cleveland-jingle-bell-run-6444
END:VEVENT

END:VCALENDAR
