BEGIN:VCALENDAR
VERSION:2.0
PRODID:-//ChamberMaster//Event Calendar 2.0//EN
METHOD:PUBLISH
X-PUBLISHED-TTL:P3D
REFRESH-INTERVAL:P3D
CALSCALE:GREGORIAN
BEGIN:VEVENT
DTSTART:20170727T213000Z
DTEND:20170727T233000Z
X-MICROSOFT-CDO-ALLDAYEVENT:FALSE
SUMMARY:Cleveland History Center YP Networking Night
DESCRIPTION:Cleveland History Center Young Professionals Networking Night\n\n\n\nMingle with the Cleveland History Center Young Professionals and members of Cleveland's many other TPOs.  We'd love to meet you!\n\n\n\nNo Cover Charge\n\nBeer and wine available for purchase\n\nComplimentary Hors d'oeuvres\n\n\n\ngo to www.wrhs.org/events to reserve your spot now!
X-ALT-DESC;FMTTYPE=text/html:Cleveland History Center Young Professionals Networking Night<br />\n<br />\nMingle with the Cleveland History Center Young Professionals and members of Cleveland&#39\;s many other TPOs. &nbsp\;We&#39\;d love to meet you!<br />\n<br />\nNo Cover Charge<br />\nBeer and wine available for purchase<br />\nComplimentary Hors d&#39\;oeuvres<br />\n<br />\ngo to www.wrhs.org/events to reserve your spot now!
LOCATION:Heinen's Rotunda Downtown 900 Euclid Avenue Cleveland\, OH 44115
UID:e.368.6331
SEQUENCE:3
DTSTAMP:20260421T094014Z
URL:https://public.beachwood.org/events/details/cleveland-history-center-yp-networking-night-6331
END:VEVENT

END:VCALENDAR
