BEGIN:VCALENDAR
VERSION:2.0
PRODID:-//ChamberMaster//Event Calendar 2.0//EN
METHOD:PUBLISH
X-PUBLISHED-TTL:P3D
REFRESH-INTERVAL:P3D
CALSCALE:GREGORIAN
BEGIN:VEVENT
DTSTART:20160108T000000Z
DTEND:20160108T013000Z
X-MICROSOFT-CDO-ALLDAYEVENT:FALSE
SUMMARY:Civic Dialogue
DESCRIPTION:Join Tyler Olson from Cuyahoga Community College for an interactive discussion of civil rights  how far we have come and how much more we need to move forward.
X-ALT-DESC;FMTTYPE=text/html:Join Tyler Olson from Cuyahoga Community College for an interactive discussion of civil rights&hellip\; how far we have come and how much more we need to move forward.
LOCATION:Beachwood Branch of Cuyahoga County Public Library 25501 Shaker Blvd Beachwood Oh 44122
UID:e.368.4809
SEQUENCE:3
DTSTAMP:20260420T074303Z
URL:https://public.beachwood.org/events/details/civic-dialogue-01-07-2016-4809
END:VEVENT

END:VCALENDAR
