BEGIN:VCALENDAR
VERSION:2.0
PRODID:-//ChamberMaster//Event Calendar 2.0//EN
METHOD:PUBLISH
X-PUBLISHED-TTL:P3D
REFRESH-INTERVAL:P3D
CALSCALE:GREGORIAN
BEGIN:VEVENT
DTSTART;VALUE=DATE:20160918
DTEND;VALUE=DATE:20160919
TRANSP:TRANSPARENT
X-MICROSOFT-CDO-ALLDAYEVENT:TRUE
SUMMARY:City of Beachwood's HONKIN HAULIN
DESCRIPTION:17th Annual Honkin Haulin -- Hands-on Trucks\n\n\n\nGet up close and personal with these big trucks\n\nGet your child their very own driver's license\n\n\n\nGet into the driver's seat of over 30 trucks including:\n\n	fire engines\n	ambulance\n	ribbish truck\n	front end loader\n	dump truck & more...
X-ALT-DESC;FMTTYPE=text/html:<strong>17th Annual Honkin Haulin -- Hands-on Trucks</strong><br />\n<br />\nGet up close and personal with these big trucks<br />\nGet your child their very own driver&#39\;s license<br />\n<br />\nGet into the driver&#39\;s seat of over 30 trucks including:\n<ul>\n	<li>fire engines</li>\n	<li>ambulance</li>\n	<li>ribbish truck</li>\n	<li>front end loader</li>\n	<li>dump truck &amp\; more...</li>\n</ul>\n
LOCATION:Beachwood Municipal Center 23355 Mercantile Road
UID:e.368.6040
SEQUENCE:3
DTSTAMP:20260420T194025Z
URL:https://public.beachwood.org/events/details/city-of-beachwood-s-honkin-haulin-6040
END:VEVENT

END:VCALENDAR
