BEGIN:VCALENDAR
VERSION:2.0
PRODID:-//ChamberMaster//Event Calendar 2.0//EN
METHOD:PUBLISH
X-PUBLISHED-TTL:P3D
REFRESH-INTERVAL:P3D
CALSCALE:GREGORIAN
BEGIN:VEVENT
DTSTART:20160904T170000Z
DTEND:20160904T210000Z
X-MICROSOFT-CDO-ALLDAYEVENT:FALSE
SUMMARY:City of Beachwood Family funday
DESCRIPTION:Family Fun Day is back!!\n\n\n\nA FREE Family Event!\n\n\n\nEnjoy ....\n\n	giant slides\n	200 ft. Zip Line Course\n	family carnival events\n	pony rides\n	cariacatures\n	clowns\, face painting\, balloons\n	farm petting zoo\n	crafts & More!
X-ALT-DESC;FMTTYPE=text/html:<span style="font-size:14px\;"><span style="color: rgb(102\, 102\, 255)\;"><strong>Family Fun Day is back!!</strong></span></span><br />\n<br />\nA FREE Family Event!<br />\n<br />\nEnjoy ....\n<ul>\n	<li>giant slides</li>\n	<li>200 ft. Zip Line Course</li>\n	<li>family carnival events</li>\n	<li>pony rides</li>\n	<li>cariacatures</li>\n	<li>clowns\, face painting\, balloons</li>\n	<li>farm petting zoo</li>\n	<li>crafts &amp\; More!</li>\n</ul>\n
LOCATION:Beachwood Family Aquatic Center Parking Lot
UID:e.368.6039
SEQUENCE:3
DTSTAMP:20260420T194050Z
URL:https://public.beachwood.org/events/details/city-of-beachwood-family-funday-6039
END:VEVENT

END:VCALENDAR
