BEGIN:VCALENDAR
VERSION:2.0
PRODID:-//ChamberMaster//Event Calendar 2.0//EN
METHOD:PUBLISH
X-PUBLISHED-TTL:P3D
REFRESH-INTERVAL:P3D
CALSCALE:GREGORIAN
BEGIN:VEVENT
DTSTART;VALUE=DATE:20081114
DTEND;VALUE=DATE:20081115
TRANSP:TRANSPARENT
X-MICROSOFT-CDO-ALLDAYEVENT:TRUE
SUMMARY:Cheryl&Co. Holiday Preview Party
DESCRIPTION:The Cheryl&Co. Holiday Preview Party is a way to preview all of the upcoming gifts\, enjoy some yummy samples and save 20% on orders placed that day!\n\nThis is a great opportunity to finish all of your holiday shopping early\, and save 20%!\n\nPlease call (937) 360-9078 for more details!
X-ALT-DESC;FMTTYPE=text/html:The Cheryl&Co. Holiday Preview Party is a way to preview all of the upcoming gifts\, enjoy some yummy samples and save 20% on orders placed that day!\n\nThis is a great opportunity to finish all of your holiday shopping early\, and save 20%!\n\nPlease call (937) 360-9078 for more details!\n\n
LOCATION:Cheryl&Co. retail store in Beachwood Place Mall.
UID:e.368.60
SEQUENCE:3
DTSTAMP:20260424T005348Z
URL:https://public.beachwood.org/events/details/cheryl-co-holiday-preview-party-11-14-2008-60
END:VEVENT

END:VCALENDAR
