BEGIN:VCALENDAR
VERSION:2.0
PRODID:-//ChamberMaster//Event Calendar 2.0//EN
METHOD:PUBLISH
X-PUBLISHED-TTL:P3D
REFRESH-INTERVAL:P3D
CALSCALE:GREGORIAN
BEGIN:VEVENT
DTSTART:20220628T210000Z
DTEND:20220628T230000Z
X-MICROSOFT-CDO-ALLDAYEVENT:FALSE
SUMMARY:Cheers with the Chamber
DESCRIPTION:Join us on the patio at Bomba to have a drink\, enjoy some tacos\, and connect with other professionals from Beachwood and the surrounding communities.\n\n \n\nThis event is free of charge and is open to chamber members and potential members. The event is pay your way with a cash bar and food available for purchase. \n\n \n\nBring business cards and your 30 second pitch\, and plan to join us to grow your network and make new connections.\n\n\n\nRegistration is requested for planning purposes.\n\n\n\nPlease note: Cheers with the Chamber is open to all Beachwood Chamber members in good standing. Potential members can attend up to two free events at no charge to see if membership is a good fit. After two events\, attendees have the option to either become a member or attend the event at the non-member rate.\n\n \n\nPresenting Sponsorship available for this event ($150).\n\nIncludes:\n\n\n	Company logo on marketing flyer\, registration page\, and in all eblast communications\n	5 minutes of remarks at event\n	Opportunity to provide handouts/materials to event attendees\n\n\nPlease contact Megan Baechle at director@beachwood.org with questions.
X-ALT-DESC;FMTTYPE=text/html:<div style="color: rgb(64\, 63\, 66)\; font-family: Arial\, Verdana\, Helvetica\, sans-serif\; font-size: 12px\; white-space: pre-wrap\;"><span style="color: rgb(0\, 0\, 0)\;">Join us on the patio at Bomba to have a drink\, enjoy some tacos\, and connect with other professionals from Beachwood and the surrounding communities.</span></div>\n\n<div style="color: rgb(64\, 63\, 66)\; font-family: Arial\, Verdana\, Helvetica\, sans-serif\; font-size: 12px\; white-space: pre-wrap\;">&nbsp\;</div>\n\n<div style="color: rgb(64\, 63\, 66)\; font-family: Arial\, Verdana\, Helvetica\, sans-serif\; font-size: 12px\; white-space: pre-wrap\;"><span style="color: rgb(0\, 0\, 0)\;">This event is free of charge and is open to chamber members and potential members. The event is pay your way with a cash bar and food available for purchase. </span><br />\n&nbsp\;</div>\n\n<div style="color: rgb(64\, 63\, 66)\; font-family: Arial\, Verdana\, Helvetica\, sans-serif\; font-size: 12px\; white-space: pre-wrap\;"><span style="color: rgb(0\, 0\, 0)\;">Bring business cards and your 30 second pitch\, and plan to join us to grow your network and make new connections.<br />\n<br />\nRegistration is requested for planning purposes.</span><br />\n<br />\nPlease note: Cheers with the Chamber is open to all Beachwood Chamber members in good standing. Potential members can attend up to two free events at no charge to see if membership is a good fit. After two events\, attendees have the option to either become a member or attend the event at the non-member rate.</div>\n\n<div style="color: rgb(64\, 63\, 66)\; font-family: Arial\, Verdana\, Helvetica\, sans-serif\; font-size: 12px\; white-space: pre-wrap\;">&nbsp\;</div>\n\n<div style="color: rgb(64\, 63\, 66)\; font-family: Arial\, Verdana\, Helvetica\, sans-serif\; font-size: 12px\; white-space: pre-wrap\;"><span style="font-weight: bold\;">Presenting Sponsorship available </span>for this event ($150).<br />\nIncludes:</div>\n\n<ul>\n	<li style="color: rgb(64\, 63\, 66)\; font-family: Arial\, Verdana\, Helvetica\, sans-serif\; font-size: 12px\; white-space: pre-wrap\;">Company logo on marketing flyer\, registration page\, and in all eblast communications</li>\n	<li style="color: rgb(64\, 63\, 66)\; font-family: Arial\, Verdana\, Helvetica\, sans-serif\; font-size: 12px\; white-space: pre-wrap\;">5 minutes of remarks at event</li>\n	<li style="color: rgb(64\, 63\, 66)\; font-family: Arial\, Verdana\, Helvetica\, sans-serif\; font-size: 12px\; white-space: pre-wrap\;">Opportunity to provide handouts/materials to event attendees</li>\n</ul>\n\n<div style="color: rgb(64\, 63\, 66)\; font-family: Arial\, Verdana\, Helvetica\, sans-serif\; font-size: 12px\; white-space: pre-wrap\;">Please contact Megan Baechle at director@beachwood.org with questions.</div>\n
LOCATION:Bomba Taco + Bar 2101 Richmond Rd. Beachwood\, OH 44122
UID:e.368.8508
SEQUENCE:3
DTSTAMP:20260421T235820Z
URL:https://public.beachwood.org/events/details/cheers-with-the-chamber-8508
END:VEVENT

END:VCALENDAR
