BEGIN:VCALENDAR
VERSION:2.0
PRODID:-//ChamberMaster//Event Calendar 2.0//EN
METHOD:PUBLISH
X-PUBLISHED-TTL:P3D
REFRESH-INTERVAL:P3D
CALSCALE:GREGORIAN
BEGIN:VEVENT
DTSTART:20220531T210000Z
DTEND:20220531T230000Z
X-MICROSOFT-CDO-ALLDAYEVENT:FALSE
SUMMARY:Cheers with the Chamber
DESCRIPTION:Join us at the fun new DIY studio at Cre8 Sparks to check out their awesome space while connecting with other professionals from Beachwood and the surrounding communities.\n\n \n\nThis event is free of charge and is open to chamber members and potential members. Light appetizers and drinks will be provided.\n\n \n\nBring business cards and your 30 second pitch\, and plan to join us to grow your network and make new connections.\n\nRegistration is requested for planning purposes.\n\n \n\nPresenting Sponsorship available for this event ($150). Please contact Megan Baechle at director@beachwood.org for more details.
X-ALT-DESC;FMTTYPE=text/html:<div style="color: rgb(64\, 63\, 66)\; font-family: Arial\, Verdana\, Helvetica\, sans-serif\; font-size: 12px\; white-space: pre-wrap\;"><span style="color: rgb(0\, 0\, 0)\;">Join us at the fun new DIY studio at <a href="https://www.cre8sparks.com/">Cre8 Sparks</a>&nbsp\;to check out their awesome space while connecting with other professionals from Beachwood and the surrounding communities.</span></div>\n\n<div style="color: rgb(64\, 63\, 66)\; font-family: Arial\, Verdana\, Helvetica\, sans-serif\; font-size: 12px\; white-space: pre-wrap\;">&nbsp\;</div>\n\n<div style="color: rgb(64\, 63\, 66)\; font-family: Arial\, Verdana\, Helvetica\, sans-serif\; font-size: 12px\; white-space: pre-wrap\;"><span style="color: rgb(0\, 0\, 0)\;">This event is free of charge and is open to chamber members and potential members. Light appetizers and drinks will be provided.</span></div>\n\n<div style="color: rgb(64\, 63\, 66)\; font-family: Arial\, Verdana\, Helvetica\, sans-serif\; font-size: 12px\; white-space: pre-wrap\;">&nbsp\;</div>\n\n<div style="color: rgb(64\, 63\, 66)\; font-family: Arial\, Verdana\, Helvetica\, sans-serif\; font-size: 12px\; white-space: pre-wrap\;"><span style="color: rgb(0\, 0\, 0)\;">Bring business cards and your 30 second pitch\, and plan to join us to grow your network and make new connections.<br />\nRegistration is requested for planning purposes.</span></div>\n\n<div style="color: rgb(64\, 63\, 66)\; font-family: Arial\, Verdana\, Helvetica\, sans-serif\; font-size: 12px\; white-space: pre-wrap\;">&nbsp\;</div>\n\n<div style="color: rgb(64\, 63\, 66)\; font-family: Arial\, Verdana\, Helvetica\, sans-serif\; font-size: 12px\; white-space: pre-wrap\;"><span style="font-weight: bold\;">Presenting Sponsorship available </span>for this event ($150). Please contact Megan Baechle at director@beachwood.org for more details.</div>\n
LOCATION:CRE8 Sparks 2101 Richmond Rd. Beachwood\, OH 44122
UID:e.368.8504
SEQUENCE:3
DTSTAMP:20260422T000658Z
URL:https://public.beachwood.org/events/details/cheers-with-the-chamber-8504
END:VEVENT

END:VCALENDAR
