BEGIN:VCALENDAR
VERSION:2.0
PRODID:-//ChamberMaster//Event Calendar 2.0//EN
METHOD:PUBLISH
X-PUBLISHED-TTL:P3D
REFRESH-INTERVAL:P3D
CALSCALE:GREGORIAN
BEGIN:VEVENT
DTSTART:20220426T210000Z
DTEND:20220426T230000Z
X-MICROSOFT-CDO-ALLDAYEVENT:FALSE
SUMMARY:Cheers with the Chamber
DESCRIPTION:Join us in the beautiful bar & lounge at The Gentlemen's Cave to check out their awesome space while connecting with other professionals from Beachwood and the surrounding communities.\n\n \n\nThis event is free of charge and is open to members and potential members. Appetizers and drinks will be provided.\n\n \n\nBring business cards and your 30 second pitch\, and plan to join us to grow your network and make new connections.\n\n \n\nPresenting Sponsorship available for this event ($150). Please contact Megan Baechle at director@beachwood.org for more details.
X-ALT-DESC;FMTTYPE=text/html:<div style="color: rgb(64\, 63\, 66)\; font-family: Arial\, Verdana\, Helvetica\, sans-serif\; font-size: 12px\; white-space: pre-wrap\;"><span style="color: rgb(0\, 0\, 0)\;">Join us in the beautiful bar &amp\; lounge at The Gentlemen&#39\;s Cave&nbsp\;to check out their awesome space while connecting with other professionals from Beachwood and the surrounding communities.</span></div>\n\n<div style="color: rgb(64\, 63\, 66)\; font-family: Arial\, Verdana\, Helvetica\, sans-serif\; font-size: 12px\; white-space: pre-wrap\;">&nbsp\;</div>\n\n<div style="color: rgb(64\, 63\, 66)\; font-family: Arial\, Verdana\, Helvetica\, sans-serif\; font-size: 12px\; white-space: pre-wrap\;"><span style="color: rgb(0\, 0\, 0)\;">This event is free of charge and is open to members and potential members. Appetizers and drinks will be provided.</span></div>\n\n<div style="color: rgb(64\, 63\, 66)\; font-family: Arial\, Verdana\, Helvetica\, sans-serif\; font-size: 12px\; white-space: pre-wrap\;">&nbsp\;</div>\n\n<div style="color: rgb(64\, 63\, 66)\; font-family: Arial\, Verdana\, Helvetica\, sans-serif\; font-size: 12px\; white-space: pre-wrap\;"><span style="color: rgb(0\, 0\, 0)\;">Bring business cards and your 30 second pitch\, and plan to join us to grow your network and make new connections.</span></div>\n\n<div style="color: rgb(64\, 63\, 66)\; font-family: Arial\, Verdana\, Helvetica\, sans-serif\; font-size: 12px\; white-space: pre-wrap\;">&nbsp\;</div>\n\n<div style="color: rgb(64\, 63\, 66)\; font-family: Arial\, Verdana\, Helvetica\, sans-serif\; font-size: 12px\; white-space: pre-wrap\;"><span style="font-weight: bold\;">Presenting Sponsorship available </span>for this event ($150). Please contact Megan Baechle at director@beachwood.org for more details.</div>\n
LOCATION:The Gentlemen's Cave Luxury Barber Lounge 20306 Chagrin Blvd. Shaker Hts.\, OH 44122
UID:e.368.8499
SEQUENCE:3
DTSTAMP:20260421T211138Z
URL:https://public.beachwood.org/events/details/cheers-with-the-chamber-8499
END:VEVENT

END:VCALENDAR
